BEGIN:VCALENDAR
PRODID:NingEventWidget-v1
VERSION:2.0
METHOD:PUBLISH
BEGIN:VTIMEZONE
TZID:America/Los_Angeles
X-LIC-LOCATION:America/Los_Angeles
BEGIN:DAYLIGHT
TZOFFSETFROM:-0800
TZOFFSETTO:-0700
TZNAME:PDT
DTSTART:19700308T020000
RRULE:FREQ=YEARLY;BYMONTH=3;BYDAY=2SU
END:DAYLIGHT
BEGIN:STANDARD
TZOFFSETFROM:-0700
TZOFFSETTO:-0800
TZNAME:PST
DTSTART:19701101T020000
RRULE:FREQ=YEARLY;BYMONTH=11;BYDAY=1SU
END:STANDARD
END:VTIMEZONE
BEGIN:VEVENT
UID:1464587:Event:645792
DTSTAMP:20260421T010304Z
SUMMARY:Too Short (CANCELLED)
DESCRIPTION:\nThu, Mar 31, 2016  Too $hort 30th Anniversary Concert (
 CANCELLED) With Special Guests\nFox Theater - Oakland, Oakland, CA  08
 :00 PM\n>> BUY TICKETS\n\n\nFor more information visit http://trueskoo
 l.com/events/too-short-win-tickets-1
DTSTART;TZID=America/Los_Angeles:20160331T200000
DTEND;TZID=America/Los_Angeles:20160401T230000
CATEGORIES:"bay area", oakland
LOCATION:Fox Theater, Oakland
WEBSITE:http://www.ticketmaster.com/event/1C00506E19147C2A?brand=anoth
 erplanet&camefrom=CFC_ANOTHERPLANET_web
URL:http://www.ticketmaster.com/event/1C00506E19147C2A?brand=anotherpl
 anet&camefrom=CFC_ANOTHERPLANET_web
CONTACT:
ORGANIZER:Another Planet Entertainment
ATTACH;FMTTYPE="image/jpeg":http://storage.ning.com/topology/rest/1.0/
 file/get/2247984183?profile=original
ATTENDEE;ROLE=REQ-PARTICIPANT;PARTSTAT=ACCEPTED;RSVP=TRUE;CN="Editor's
  Pick":http://trueskool.com/profile/RentheVinylArchaeologist
ATTENDEE;ROLE=REQ-PARTICIPANT;PARTSTAT=ACCEPTED;RSVP=TRUE;CN="Donte Ha
 rrison":http://trueskool.com/profile/DonteHarrison
END:VEVENT
END:VCALENDAR
