BEGIN:VCALENDAR
PRODID:NingEventWidget-v1
VERSION:2.0
METHOD:PUBLISH
BEGIN:VTIMEZONE
TZID:America/Los_Angeles
X-LIC-LOCATION:America/Los_Angeles
BEGIN:DAYLIGHT
TZOFFSETFROM:-0800
TZOFFSETTO:-0700
TZNAME:PDT
DTSTART:19700308T020000
RRULE:FREQ=YEARLY;BYMONTH=3;BYDAY=2SU
END:DAYLIGHT
BEGIN:STANDARD
TZOFFSETFROM:-0700
TZOFFSETTO:-0800
TZNAME:PST
DTSTART:19701101T020000
RRULE:FREQ=YEARLY;BYMONTH=11;BYDAY=1SU
END:STANDARD
END:VTIMEZONE
BEGIN:VEVENT
UID:1464587:Event:661762
DTSTAMP:20260421T220821Z
SUMMARY:TOO $HORT
DESCRIPTION:TOO $HORT\nDigital Underground\nFox Theater Oakland, CA Fr
 iday, May 19, 2017 Show: 8:00pm\n$55.00 – General Admission Floor $5
 5.00 – Reserved Mezzanine $45.00 – Reserved Balcony\n\nFor more in
 formation visit http://trueskool.com/events/too-hort
DTSTART;TZID=America/Los_Angeles:20170519T200000
DTEND;TZID=America/Los_Angeles:20170519T230000
CATEGORIES:"san francisco", oakland, berkley, "san jose", "bay area"
LOCATION:Fox Theater, Oakland
WEBSITE:http://www.ticketmaster.com/event/1C00528EEEADEDF8?camefrom=CF
 C_ANOTHERPLANET_web&brand=anotherplanet
URL:http://www.ticketmaster.com/event/1C00528EEEADEDF8?camefrom=CFC_AN
 OTHERPLANET_web&brand=anotherplanet
CONTACT:
ORGANIZER;CN="Editor's Pick":http://trueskool.com/profile/RentheVinylA
 rchaeologist
ATTACH;FMTTYPE="image/jpeg":http://storage.ning.com/topology/rest/1.0/
 file/get/2247996163?profile=original
ATTENDEE;ROLE=REQ-PARTICIPANT;PARTSTAT=ACCEPTED;RSVP=TRUE;CN="Editor's
  Pick":http://trueskool.com/profile/RentheVinylArchaeologist
END:VEVENT
END:VCALENDAR
