BEGIN:VCALENDAR
PRODID:NingEventWidget-v1
VERSION:2.0
METHOD:PUBLISH
BEGIN:VTIMEZONE
TZID:America/Los_Angeles
X-LIC-LOCATION:America/Los_Angeles
BEGIN:DAYLIGHT
TZOFFSETFROM:-0800
TZOFFSETTO:-0700
TZNAME:PDT
DTSTART:19700308T020000
RRULE:FREQ=YEARLY;BYMONTH=3;BYDAY=2SU
END:DAYLIGHT
BEGIN:STANDARD
TZOFFSETFROM:-0700
TZOFFSETTO:-0800
TZNAME:PST
DTSTART:19701101T020000
RRULE:FREQ=YEARLY;BYMONTH=11;BYDAY=1SU
END:STANDARD
END:VTIMEZONE
BEGIN:VEVENT
UID:1464587:Event:472943
DTSTAMP:20260420T170041Z
SUMMARY:Tony! Toni! Toné! (WIN TICKETS)
DESCRIPTION:\n\nFRIDAY-SATURDAY, DEC 19-22\nTony! Toni! Toné!\n\nFrid
 ay, December 19\n8pm & 10pm $34\nPremier seating + Meet and Greet $64\
 n\nSaturday, December 20\n7:30pm & 9:30pm $42\nPremier seating + Meet 
 and Greet $64\n\nSunday, December 21\n7pm & 9pm $37\nPremier seating +
  Meet and Greet $64\n\nMonday, December 22\n8pm & 10pm $34\nPremier se
 ating + Meet and Greet $64\n\nYoshi's Oakland\n510 Embarcadero West\nJ
 ack London Square\nOakland, CA 94607\n» BUY TICKETS\n\nPREMIER SEATIN
 G + MEET and GREET tickets: Yoshi's will provide seating in the first 
 two rows for the performance. The Meet and Greet (approx. 20 mins) wil
 l be one hour before the early performances and will take place in the
  club.\n\n\n\nFor more information visit http://trueskool.com/events/t
 ony-toni-tone-win-tickets
DTSTART;TZID=America/Los_Angeles:20141219T200000
DTEND;TZID=America/Los_Angeles:20141222T230000
CATEGORIES:"bay area", "san francisco"
LOCATION:Yoshi's, Oakland
WEBSITE:http://www.ticketfly.com/search/?q=%22Tony+Toni+Tone%22+%2B+Yo
 shi%27s+%2B+Oakland
URL:http://www.ticketfly.com/search/?q=%22Tony+Toni+Tone%22+%2B+Yoshi%
 27s+%2B+Oakland
CONTACT:
ORGANIZER:Yoshi's
ATTACH;FMTTYPE="image/jpeg":http://storage.ning.com/topology/rest/1.0/
 file/get/2247970853?profile=original
ATTENDEE;ROLE=REQ-PARTICIPANT;PARTSTAT=ACCEPTED;RSVP=TRUE;CN="Alfredo 
 Cautiverio":http://trueskool.com/profile/AlfredoCautiverio
ATTENDEE;ROLE=REQ-PARTICIPANT;PARTSTAT=ACCEPTED;RSVP=TRUE;CN=J:http://
 trueskool.com/profile/J321
ATTENDEE;ROLE=REQ-PARTICIPANT;PARTSTAT=ACCEPTED;RSVP=TRUE;CN="Kimon Fl
 anagan":http://trueskool.com/profile/KimonFlanagan
ATTENDEE;ROLE=REQ-PARTICIPANT;PARTSTAT=ACCEPTED;RSVP=TRUE;CN=IMMORAL:h
 ttp://trueskool.com/profile/IMMORAL
ATTENDEE;ROLE=REQ-PARTICIPANT;PARTSTAT=ACCEPTED;RSVP=TRUE;CN="Shayla E
 lliott":http://trueskool.com/profile/ShaylaElliott
ATTENDEE;ROLE=REQ-PARTICIPANT;PARTSTAT=ACCEPTED;RSVP=TRUE;CN=Angela:ht
 tp://trueskool.com/profile/Angela815
ATTENDEE;ROLE=REQ-PARTICIPANT;PARTSTAT=ACCEPTED;RSVP=TRUE;CN="Chaya Be
 ll-Gumaer":http://trueskool.com/profile/ChayaBellGumaer
ATTENDEE;ROLE=REQ-PARTICIPANT;PARTSTAT=ACCEPTED;RSVP=TRUE;CN=Itzalovet
 hang:http://trueskool.com/profile/Itzalovethang
ATTENDEE;ROLE=REQ-PARTICIPANT;PARTSTAT=ACCEPTED;RSVP=TRUE;CN="Eric Dur
 an":http://trueskool.com/profile/EricDuran
ATTENDEE;ROLE=REQ-PARTICIPANT;PARTSTAT=ACCEPTED;RSVP=TRUE;CN="Elisa Bj
 eldanes":http://trueskool.com/profile/ElisaBjeldanes
ATTENDEE;ROLE=REQ-PARTICIPANT;PARTSTAT=ACCEPTED;RSVP=TRUE;CN="Mark Hen
 derson":http://trueskool.com/profile/MarkHenderson
ATTENDEE;ROLE=REQ-PARTICIPANT;PARTSTAT=ACCEPTED;RSVP=TRUE;CN="Editor's
  Pick":http://trueskool.com/profile/RentheVinylArchaeologist
ATTENDEE;ROLE=REQ-PARTICIPANT;PARTSTAT=ACCEPTED;RSVP=TRUE;CN="Ondie A"
 :http://trueskool.com/profile/OndieA
ATTENDEE;ROLE=REQ-PARTICIPANT;PARTSTAT=ACCEPTED;RSVP=TRUE;CN="James Mi
 chael Federighi":http://trueskool.com/profile/JamesMichaelFederighi
END:VEVENT
END:VCALENDAR
