BEGIN:VCALENDAR
PRODID:NingEventWidget-v1
VERSION:2.0
METHOD:PUBLISH
BEGIN:VTIMEZONE
TZID:America/Los_Angeles
X-LIC-LOCATION:America/Los_Angeles
BEGIN:DAYLIGHT
TZOFFSETFROM:-0800
TZOFFSETTO:-0700
TZNAME:PDT
DTSTART:19700308T020000
RRULE:FREQ=YEARLY;BYMONTH=3;BYDAY=2SU
END:DAYLIGHT
BEGIN:STANDARD
TZOFFSETFROM:-0700
TZOFFSETTO:-0800
TZNAME:PST
DTSTART:19701101T020000
RRULE:FREQ=YEARLY;BYMONTH=11;BYDAY=1SU
END:STANDARD
END:VTIMEZONE
BEGIN:VEVENT
UID:1464587:Event:355898
DTSTAMP:20260421T034810Z
SUMMARY:TONY! TONI! TONE! (WIN TICKETS)
DESCRIPTION:\n\nThe Bay Area's homegrown R&B trio\nFriday-Saturday, Ju
 ly 11-12 - open dance floor\nFriday, July 11\n\n8pm $36\n10pm $29\n\nS
 aturday, July 12\n\n8pm $38\n10pm $33\n\n\n\nFor more information visi
 t http://trueskool.com/events/tony-toni-tone-1
DTSTART;TZID=America/Los_Angeles:20140711T200000
DTEND;TZID=America/Los_Angeles:20140712T233000
CATEGORIES:"bay area", "san francisco", oakland
LOCATION:Yoshi's, San Francisco
WEBSITE:http://sfyoshis.inticketing.com/evlist.php?events=search&searc
 hstr=tony!+toni!+tone!&smonth=0&sday=0&syear=0&vstate=0
URL:http://sfyoshis.inticketing.com/evlist.php?events=search&searchstr
 =tony!+toni!+tone!&smonth=0&sday=0&syear=0&vstate=0
CONTACT:
ORGANIZER;CN="Editor's Pick":http://trueskool.com/profile/RentheVinylA
 rchaeologist
ATTACH;FMTTYPE="image/jpeg":http://storage.ning.com/topology/rest/1.0/
 file/get/2247961815?profile=original
ATTENDEE;ROLE=REQ-PARTICIPANT;PARTSTAT=ACCEPTED;RSVP=TRUE;CN="Donte Ha
 rrison":http://trueskool.com/profile/DonteHarrison
ATTENDEE;ROLE=REQ-PARTICIPANT;PARTSTAT=ACCEPTED;RSVP=TRUE;CN="Joey Kid
 ":http://trueskool.com/profile/JoeKidUrbina
ATTENDEE;ROLE=REQ-PARTICIPANT;PARTSTAT=ACCEPTED;RSVP=TRUE;CN=Benjamin:
 http://trueskool.com/profile/Benjamin
ATTENDEE;ROLE=REQ-PARTICIPANT;PARTSTAT=ACCEPTED;RSVP=TRUE;CN="D-Boy So
 och":http://trueskool.com/profile/DBoySooch
ATTENDEE;ROLE=REQ-PARTICIPANT;PARTSTAT=ACCEPTED;RSVP=TRUE;CN="Camille 
 Yin":http://trueskool.com/profile/Camille
ATTENDEE;ROLE=REQ-PARTICIPANT;PARTSTAT=ACCEPTED;RSVP=TRUE;CN="James Mi
 chael Federighi":http://trueskool.com/profile/JamesMichaelFederighi
ATTENDEE;ROLE=REQ-PARTICIPANT;PARTSTAT=ACCEPTED;RSVP=TRUE;CN="Ondie A"
 :http://trueskool.com/profile/OndieA
ATTENDEE;ROLE=REQ-PARTICIPANT;PARTSTAT=ACCEPTED;RSVP=TRUE;CN="Editor's
  Pick":http://trueskool.com/profile/RentheVinylArchaeologist
ATTENDEE;ROLE=REQ-PARTICIPANT;PARTSTAT=TENTATIVE;RSVP=TRUE;CN="lw_muse
 @yahoo.com":http://trueskool.com/profile/lwmuseyahoocom
ATTENDEE;ROLE=REQ-PARTICIPANT;PARTSTAT=TENTATIVE;RSVP=TRUE;CN="T Marie
  Johnson":http://trueskool.com/profile/TMarieJohnson
END:VEVENT
END:VCALENDAR
