BEGIN:VCALENDAR
PRODID:NingEventWidget-v1
VERSION:2.0
METHOD:PUBLISH
BEGIN:VTIMEZONE
TZID:America/Los_Angeles
X-LIC-LOCATION:America/Los_Angeles
BEGIN:DAYLIGHT
TZOFFSETFROM:-0800
TZOFFSETTO:-0700
TZNAME:PDT
DTSTART:19700308T020000
RRULE:FREQ=YEARLY;BYMONTH=3;BYDAY=2SU
END:DAYLIGHT
BEGIN:STANDARD
TZOFFSETFROM:-0700
TZOFFSETTO:-0800
TZNAME:PST
DTSTART:19701101T020000
RRULE:FREQ=YEARLY;BYMONTH=11;BYDAY=1SU
END:STANDARD
END:VTIMEZONE
BEGIN:VEVENT
UID:1464587:Event:640582
DTSTAMP:20260420T201621Z
SUMMARY:TITO PUENTE JR.
DESCRIPTION:TITO PUENTE JR.Sunday Feb 28, 2016Doors: 6:30 PM Show: 7:0
 0 PM$27 - $57\nYoshi's Oakland510 Embarcadero West Oakland, CA\n\nFor 
 more information visit http://trueskool.com/events/tito-puente-jr-1
DTSTART;TZID=America/Los_Angeles:20160228T190000
DTEND;TZID=America/Los_Angeles:20160228T230000
CATEGORIES:"san francisco", oakland, berkley, "san jose", "bay area"
LOCATION:Yoshi's, Oakland
WEBSITE:https://www.ticketfly.com/purchase/event/1038697?_ga=1.1031444
 48.107816801.1452016509
URL:https://www.ticketfly.com/purchase/event/1038697?_ga=1.103144448.1
 07816801.1452016509
CONTACT:
ORGANIZER;CN="Editor's Pick":http://trueskool.com/profile/RentheVinylA
 rchaeologist
ATTACH;FMTTYPE="image/jpeg":http://storage.ning.com/topology/rest/1.0/
 file/get/2247981900?profile=original
ATTENDEE;ROLE=REQ-PARTICIPANT;PARTSTAT=ACCEPTED;RSVP=TRUE;CN="Editor's
  Pick":http://trueskool.com/profile/RentheVinylArchaeologist
END:VEVENT
END:VCALENDAR
