BEGIN:VCALENDAR
PRODID:NingEventWidget-v1
VERSION:2.0
METHOD:PUBLISH
BEGIN:VTIMEZONE
TZID:America/Los_Angeles
X-LIC-LOCATION:America/Los_Angeles
BEGIN:DAYLIGHT
TZOFFSETFROM:-0800
TZOFFSETTO:-0700
TZNAME:PDT
DTSTART:19700308T020000
RRULE:FREQ=YEARLY;BYMONTH=3;BYDAY=2SU
END:DAYLIGHT
BEGIN:STANDARD
TZOFFSETFROM:-0700
TZOFFSETTO:-0800
TZNAME:PST
DTSTART:19701101T020000
RRULE:FREQ=YEARLY;BYMONTH=11;BYDAY=1SU
END:STANDARD
END:VTIMEZONE
BEGIN:VEVENT
UID:1464587:Event:642449
DTSTAMP:20260420T181942Z
SUMMARY:Tinashe
DESCRIPTION:Tinashe\nJoyride World Tour\nTue, Apr 5, 2016 - 8:00PM\n\n
 Ages: All Ages Doors Open: 7:00PM Price: $27.50 - $40.00 Door Price: S
 tarting from: $30.00 Onsale: Fri, Jan 15, 2016 - 10:00AM PST\n\nFor mo
 re information visit http://trueskool.com/events/tinashe
DTSTART;TZID=America/Los_Angeles:20160405T200000
DTEND;TZID=America/Los_Angeles:20160405T230000
CATEGORIES:"san francisco", oakland, berkley, "san jose", "bay area"
LOCATION:The Warfield, San Francisco
WEBSITE:http://www.axs.com/events/305846/tinashe-tickets?skin=goldenvo
 ice
URL:http://www.axs.com/events/305846/tinashe-tickets?skin=goldenvoice
CONTACT:
ORGANIZER;CN="Editor's Pick":http://trueskool.com/profile/RentheVinylA
 rchaeologist
ATTACH;FMTTYPE="image/jpeg":http://storage.ning.com/topology/rest/1.0/
 file/get/2247983502?profile=original
ATTENDEE;ROLE=REQ-PARTICIPANT;PARTSTAT=ACCEPTED;RSVP=TRUE;CN="Editor's
  Pick":http://trueskool.com/profile/RentheVinylArchaeologist
END:VEVENT
END:VCALENDAR
