BEGIN:VCALENDAR
PRODID:NingEventWidget-v1
VERSION:2.0
METHOD:PUBLISH
BEGIN:VTIMEZONE
TZID:America/Los_Angeles
X-LIC-LOCATION:America/Los_Angeles
BEGIN:DAYLIGHT
TZOFFSETFROM:-0800
TZOFFSETTO:-0700
TZNAME:PDT
DTSTART:19700308T020000
RRULE:FREQ=YEARLY;BYMONTH=3;BYDAY=2SU
END:DAYLIGHT
BEGIN:STANDARD
TZOFFSETFROM:-0700
TZOFFSETTO:-0800
TZNAME:PST
DTSTART:19701101T020000
RRULE:FREQ=YEARLY;BYMONTH=11;BYDAY=1SU
END:STANDARD
END:VTIMEZONE
BEGIN:VEVENT
UID:1464587:Event:343180
DTSTAMP:20260421T021253Z
SUMMARY:Thumpday Thursday! Episode 3 feat El Diablo!!
DESCRIPTION:\nThe 3rd night of Thumpday Thursday! Featuring some local
  favorites Mixtress Shizaam, FletcherRay, Marty McFly and the producer
  of Too Short's new edm single, El Diablo!!!\n El Diablo (MalLabel Mus
 ic)\nsoundcloud.com/eldiablo https://twitter.com/eldiablo_sf... www.fa
 cebook.com/EldiabloSF\n Mixtress Shizaam https://www.facebook.com/page
 s/DJ-Shizaam/164701976900997 https://soundcloud.com/mixtress-shizaam\n
  FletcherRay\nsoundcloud.com/algorhythms\n Marty McFly\nhttps://soundc
 loud.com/marty-mcfly949 https://www.facebook.com/profile.php?id=573964
 250&fref=ts\n Timeslots\n9:30 - 10:45 Mixtress Shizaam\n10:45 - 11:45 
 FletcherRay\n11:45 - 12:45 El Diablo\n12:45 - 1:45 Marty McFly\n Ticke
 ts here: https://www.eventbrite.com/e/thumpday-thursday-episode-3-feat
 -el-diablo-tickets-11231039341\n $5 Presale //  $10 at the door Free 
 with RSVP before 11:00pm!\n To RSVP, simply click \"Going\" before 8:0
 0PM on Thursday April 17 ****AND**** Share the event!\n\nFor more info
 rmation visit http://trueskool.com/events/thumpday-thursday-episode-3-
 feat-el-diablo
DTSTART;TZID=America/Los_Angeles:20140417T213000
DTEND;TZID=America/Los_Angeles:20140418T020000
CATEGORIES:san, francisco, bay, area, ca, the, california, sf
LOCATION:Cosmo Lounge, San Francisco, CA
WEBSITE:https://www.facebook.com/events/440937682718195/?ref_dashboard
 _filter=upcoming
URL:https://www.facebook.com/events/440937682718195/?ref_dashboard_fil
 ter=upcoming
CONTACT:7758482888
ORGANIZER;CN="Free Bass Productions":http://trueskool.com/profile/Free
 BassProductions
ATTACH;FMTTYPE="image/jpeg":http://storage.ning.com/topology/rest/1.0/
 file/get/2247961008?profile=original
ATTENDEE;ROLE=REQ-PARTICIPANT;PARTSTAT=ACCEPTED;RSVP=TRUE;CN="Free Bas
 s Productions":http://trueskool.com/profile/FreeBassProductions
END:VEVENT
END:VCALENDAR
