BEGIN:VCALENDAR
PRODID:NingEventWidget-v1
VERSION:2.0
METHOD:PUBLISH
BEGIN:VTIMEZONE
TZID:America/Los_Angeles
X-LIC-LOCATION:America/Los_Angeles
BEGIN:DAYLIGHT
TZOFFSETFROM:-0800
TZOFFSETTO:-0700
TZNAME:PDT
DTSTART:19700308T020000
RRULE:FREQ=YEARLY;BYMONTH=3;BYDAY=2SU
END:DAYLIGHT
BEGIN:STANDARD
TZOFFSETFROM:-0700
TZOFFSETTO:-0800
TZNAME:PST
DTSTART:19701101T020000
RRULE:FREQ=YEARLY;BYMONTH=11;BYDAY=1SU
END:STANDARD
END:VTIMEZONE
BEGIN:VEVENT
UID:1464587:Event:297435
DTSTAMP:20260420T180218Z
SUMMARY:Throwback 90's House Nite
DESCRIPTION:THROWBACK - a tribute to 90's house music, with one incred
 ible lineup of DJs. The evening begins at 9pm with an open bar from 9p
 m-10pm. The event is free before 12am with RSVP! Djs will be spinning 
 90's house classics, rare gems, and underground white labels all night
  long! \nDJ lineup-\nRen the Vinyl Archeologist (True Skool)\nAndrew 
 Phelan (Prismatic)\nTyrel Williams (Housepatality, SF)\nDJ Taj (The En
 dup, DJTaj.com)\nJayvi Velasco (AfterAfterHours)\n\nFor more informati
 on visit http://trueskool.com/events/throwback-90-s-house-nite
DTSTART;TZID=America/Los_Angeles:20140124T210000
DTEND;TZID=America/Los_Angeles:20140125T030000
CATEGORIES:san, francisco, bay, area, california
LOCATION:Mighty, San Francisco, CA
WEBSITE:http://www.eventbrite.com/e/throwback-90s-house-nite-free-b4-1
 2am-w-rsvp-here-tickets-10093438747
URL:http://www.eventbrite.com/e/throwback-90s-house-nite-free-b4-12am-
 w-rsvp-here-tickets-10093438747
CONTACT:
ORGANIZER:Mighty SF
ATTACH;FMTTYPE="image/jpeg":http://storage.ning.com/topology/rest/1.0/
 file/get/2247955617?profile=original
ATTENDEE;ROLE=REQ-PARTICIPANT;PARTSTAT=ACCEPTED;RSVP=TRUE;CN="Alexandr
 a Alden":http://trueskool.com/profile/AlexandraAlden
END:VEVENT
END:VCALENDAR
