BEGIN:VCALENDAR
PRODID:NingEventWidget-v1
VERSION:2.0
METHOD:PUBLISH
BEGIN:VTIMEZONE
TZID:America/Los_Angeles
X-LIC-LOCATION:America/Los_Angeles
BEGIN:DAYLIGHT
TZOFFSETFROM:-0800
TZOFFSETTO:-0700
TZNAME:PDT
DTSTART:19700308T020000
RRULE:FREQ=YEARLY;BYMONTH=3;BYDAY=2SU
END:DAYLIGHT
BEGIN:STANDARD
TZOFFSETFROM:-0700
TZOFFSETTO:-0800
TZNAME:PST
DTSTART:19701101T020000
RRULE:FREQ=YEARLY;BYMONTH=11;BYDAY=1SU
END:STANDARD
END:VTIMEZONE
BEGIN:VEVENT
UID:1464587:Event:298419
DTSTAMP:20260420T212801Z
SUMMARY:Throwback 90's House Nite - FREE B4 12am w/ RSVP
DESCRIPTION:\nFRIDAY, JAN 24 THROWBACK  a tribute to 90's house music,
  with one incredible lineup of DJs. The evening begins at 9pm with an 
 open bar from 9pm-10pm. The event is free before 12am with RSVP! Djs w
 ill be spinning 90's house classics, rare gems, and underground white 
 labels all night long! OPEN BAR first HOUR\n\nDJ lineup- Ren the Vinyl
  Archeologist (True Skool) Andrew Phelan (Prismatic) Tyrel Williams (H
 ousepatality, SF) DJ Taj (The Endup, DJTaj.com) Jayvi Velasco (AfterAf
 terHours)\n\n@ Mighty, 119 Utah St., SF 9PM-3AM, 21+ FREE b4 MIDNIGHT 
 w/ RSVP HERE http://tinyurl.com/qg29mtc\n\nFor more information visit 
 http://trueskool.com/events/throwback-90-s-house-nite-mighty-10-year-a
 nniversary
DTSTART;TZID=America/Los_Angeles:20140124T210000
DTEND;TZID=America/Los_Angeles:20140125T030000
CATEGORIES:"bay area", "san francisco"
LOCATION:Mighty, San Francisco
WEBSITE:https://www.facebook.com/events/391391954329625
URL:https://www.facebook.com/events/391391954329625
CONTACT:
ORGANIZER:Mighty
ATTACH;FMTTYPE="image/jpeg":http://storage.ning.com/topology/rest/1.0/
 file/get/2247955617?profile=original
ATTENDEE;ROLE=REQ-PARTICIPANT;PARTSTAT=ACCEPTED;RSVP=TRUE;CN="Editor's
  Pick":http://trueskool.com/profile/RentheVinylArchaeologist
END:VEVENT
END:VCALENDAR
