BEGIN:VCALENDAR
PRODID:NingEventWidget-v1
VERSION:2.0
METHOD:PUBLISH
BEGIN:VTIMEZONE
TZID:America/Los_Angeles
X-LIC-LOCATION:America/Los_Angeles
BEGIN:DAYLIGHT
TZOFFSETFROM:-0800
TZOFFSETTO:-0700
TZNAME:PDT
DTSTART:19700308T020000
RRULE:FREQ=YEARLY;BYMONTH=3;BYDAY=2SU
END:DAYLIGHT
BEGIN:STANDARD
TZOFFSETFROM:-0700
TZOFFSETTO:-0800
TZNAME:PST
DTSTART:19701101T020000
RRULE:FREQ=YEARLY;BYMONTH=11;BYDAY=1SU
END:STANDARD
END:VTIMEZONE
BEGIN:VEVENT
UID:1464587:Event:414061
DTSTAMP:20260421T052733Z
SUMMARY:Xmas Eve Party - Free @ Freddie J's Bar & Lounge in San Jose
DESCRIPTION:Freddie J's Bar & Lounge open tonight. Free xmas eve party
 . DJ Johnny Afro in the mix! 97 E Santa Clara St, San Jose, CA 95113Cl
 assic Hip Hop &amp; R&amp;B that makes you move and groove.  Todays h
 its in the mix, the top tracks blended with the legendary jams.No Cove
 r, No Cover, No Cover,21plus, dress code neat and clean,Remixes and Mo
 re.\n\nFor more information visit http://trueskool.com/events/throw-ba
 ck-thursdays-freddie-j-s-san-jose
DTSTART;TZID=America/Los_Angeles:20161224T220000
DTEND;TZID=America/Los_Angeles:20161225T020000
CATEGORIES:bay, area, san, jose, downtown, 3rd, and, "e.", santa, clar
 a, "st."
LOCATION:Freddie J's, San Jose, CA
WEBSITE:
URL:
CONTACT:(408) 292-2420
ORGANIZER;CN="Bass Way Records":http://trueskool.com/profile/BassWayRe
 cords
ATTACH;FMTTYPE="image/jpeg":http://storage.ning.com/topology/rest/1.0/
 file/get/2247993232?profile=original
ATTENDEE;ROLE=REQ-PARTICIPANT;PARTSTAT=ACCEPTED;RSVP=TRUE;CN="Bass Way
  Records":http://trueskool.com/profile/BassWayRecords
END:VEVENT
END:VCALENDAR
