BEGIN:VCALENDAR
PRODID:NingEventWidget-v1
VERSION:2.0
METHOD:PUBLISH
BEGIN:VTIMEZONE
TZID:America/Los_Angeles
X-LIC-LOCATION:America/Los_Angeles
BEGIN:DAYLIGHT
TZOFFSETFROM:-0800
TZOFFSETTO:-0700
TZNAME:PDT
DTSTART:19700308T020000
RRULE:FREQ=YEARLY;BYMONTH=3;BYDAY=2SU
END:DAYLIGHT
BEGIN:STANDARD
TZOFFSETFROM:-0700
TZOFFSETTO:-0800
TZNAME:PST
DTSTART:19701101T020000
RRULE:FREQ=YEARLY;BYMONTH=11;BYDAY=1SU
END:STANDARD
END:VTIMEZONE
BEGIN:VEVENT
UID:1464587:Event:381304
DTSTAMP:20260421T073404Z
SUMMARY:THIS THURSDAY!!! Free Nu Disco Pre-Independence Day Party (Jul
 y 3rd) + Matt Haze's Birthday Celebration (with DJs Discopill, Matt Ha
 ze, Neon Neo, Imani) AGES 18+
DESCRIPTION:*Nu Disco*Indie Dance*Funky House *Disco House *Bounce B
 oogie Gems*G-House *Soul House*Ass Shakin Beats10pm to 2am, ages 18 a
 nd upTemple Nightclub: 540 Howard St, SFFree before midnight with Face
 book RSVP$5 AFTER\nhttps://www.facebook.com/events/1445871135665274/\n
 Featuring:Discopill (aka Jays One)https://soundcloud.com/discopillhttp
 s://soundcloud.com/jays-oneMatt Haze (aka Birthday Boy)http://soundclo
 ud.com/matthazeNeon Neo (aka Paul Hemming)https://soundcloud.com/neon-
 neohttps://soundcloud.com/paul-hemmingDJ Imani (aka Nebakaneza)https:/
 /soundcloud.com/djimanihttps://soundcloud.com/nebakaneza\n\nFor more i
 nformation visit http://trueskool.com/events/this-thursday-free-nu-dis
 co-pre-independence-day-party-july-3rd
DTSTART;TZID=America/Los_Angeles:20140703T220000
DTEND;TZID=America/Los_Angeles:20140704T020000
CATEGORIES:free, thursday, disco, house, "san francisco"
LOCATION:Temple, San Francisco
WEBSITE:https://www.facebook.com/events/1445871135665274/
URL:https://www.facebook.com/events/1445871135665274/
CONTACT:
ORGANIZER;CN="Nebakaneza Nebakaneza":http://trueskool.com/profile/Neba
 kanezaNebakaneza
ATTACH;FMTTYPE="image/jpeg":http://storage.ning.com/topology/rest/1.0/
 file/get/2247962772?profile=original
ATTENDEE;ROLE=REQ-PARTICIPANT;PARTSTAT=ACCEPTED;RSVP=TRUE;CN="Nebakane
 za Nebakaneza":http://trueskool.com/profile/NebakanezaNebakaneza
END:VEVENT
END:VCALENDAR
