BEGIN:VCALENDAR
PRODID:NingEventWidget-v1
VERSION:2.0
METHOD:PUBLISH
BEGIN:VTIMEZONE
TZID:America/Los_Angeles
X-LIC-LOCATION:America/Los_Angeles
BEGIN:DAYLIGHT
TZOFFSETFROM:-0800
TZOFFSETTO:-0700
TZNAME:PDT
DTSTART:19700308T020000
RRULE:FREQ=YEARLY;BYMONTH=3;BYDAY=2SU
END:DAYLIGHT
BEGIN:STANDARD
TZOFFSETFROM:-0700
TZOFFSETTO:-0800
TZNAME:PST
DTSTART:19701101T020000
RRULE:FREQ=YEARLY;BYMONTH=11;BYDAY=1SU
END:STANDARD
END:VTIMEZONE
BEGIN:VEVENT
UID:1464587:Event:608594
DTSTAMP:20260420T201751Z
SUMMARY:THIS SATURDAY IN OAKLAND: Divinyl Echo presents BLESSED with s
 pecial guests: MATTSKI (Body Music, Underverse Sanctuary), PROOF (Mass
 ive Selector)
DESCRIPTION:MATTSKI The Deepest househeads have been following this un
 derground San Jo DJ for almost 30 years, so we had to bring his West C
 oast supa-soulful sound to the surface - once again - to be beloved by
  all. While many have been following his dancefloor remixes on his The
  Rock the Box Show, you can hear him live and aboveground Just. This. 
 Night. Mattski has been collecting records since the age of 8 years ol
 d. He started to dj underground dance music at the age of 13 and start
 ed playing in the clubs at 16. Raised in Eastside San Jose Califas, he
  has played for Fashion Shows to Club Venues since the 1980's. Startin
 g a short residency at Stargaze, Club Moda, The Original Kabuki Theate
 r Fashion shows and inspired by East Coast and European dance music, M
 attski was educated by early 80's West Coast latino disco and high-ene
 rgy club dj's, mobile dj crews, and clubs like Studio 47, One Step Bey
 ond and many more at that time. Currently, Mattski is creating and pro
 ducing mixes with his brotha Neter Supreme aka Original Drum; a monthl
 y loft party called Body Music - Loft 22 (Oakland); and various projec
 ts with fellow friends and dj's Patrick Wilson, Soul Luciani and Rahie
 m Jihad. Check out his remixes and productions at: http://soundcloud.c
 om/mattski http://mattski-mixes.podomatic.com/\nPROOF Marky Enriquez a
 ka Proof is heralded as one of the West Coast's DJ elites, throwing ga
 me-changing events and spinning coast-to-coast with the hottest select
 ions. As one of the original members of Massive Selector, a San Franci
 sco-based collective of artists, DJs, and entrepreneurs, Marky produce
 s acclaimed events such as Wonder-Full: A Tribute to the Wonders of St
 evie, Soul Slam: Prince and Michael Jackson, and the bi-coastal event 
 SFNY. Heavily influenced by funk, soul, hip-hop, disco and house, Mark
 y's sound caters to the discerned dance floor. His mixes, known for th
 eir global flavor and crossing genres seamlessly, have created quite a
  buzz with music lovers. Marky has booked and spun alongside internati
 onally known artists such as ?uestlove, DJ Jazzy Jeff, Gilles Peterson
 , DJ Spinna, Bobbito Garcia, Rich Medina, Dwele, Dam-Funk, Prefuse 73,
  Flying Lotus and countless others. You can catch Marky at Sweater Fun
 k, San Francisco's only party dedicated to boogie funk and modern soul
  on original wax at The Knockout every Sunday night. Links http://www.
 livin-proof.com/ https://www.facebook.com/livinproof https://twitter.c
 om/livinproof http://soundcloud.com/livinproof\nSmoothin' out the even
 ing with a soulful variety of the Deep, the Uplifting, the Classic and
  the Fresh are your BLESSED residents - RAFI ACEVEDO and DISCAYA.\nThe
  essentials: BLESSED - Saturday, March 7, 2015, 9 pm - 2 am You! Matts
 ki (Body Music, Underverse Sanctuary) 12:15 - 1:45 Proof (Massive Sele
 ctor) 10:45 - 12:15 FREE before 11 pm or with RSVP $5 after 11 pm Soma
 r Bar 1727 Telegraph Oakland, Ca.\nResident Soulful Music Selectas: Ra
 fi Acevedo Discaya\nPast DIVINYL ECHO guest DJs & vocalists: Stephen R
 igmaiden Anthony Mansfield Johana Barahona Trinidadian Deep Selector D
 J Kirk Ruben Mancias David Goodtime Mauricio Aviles David Harness Fran
 ky Boissy Nesto Fuentez Patrick Wilson Teejay Walton Michelle Sanz Jay
 vi Velasco Vincent Kwok Rahiem Jihad Kristine Dava Emily Infante Soul 
 Profess Aiko (Japan) Rob Rhythm Ace & Gunz Julius Papp Paolo Dava MKL 
 (NYC) Lito Carrillo DJ Smash Sake One Pete Avila donGuapo Don Crisp DJ
  Fflood Nerstylist Aebl Dee Deepcee Nina Sol Sobeeze Leonard Jere Bui 
 DJ Said Mattski Kincaid Rasoul Dedan Galen Wazir Omar Imani Tyrel Cali
 \nBLESSED (every first Saturday of the month)\n'Your soul will thank y
 ou for it' Love, Divinyl Echo\n\nFor more information visit http://tru
 eskool.com/events/this-saturday-in-oakland-divinyl-echo-presents-bless
 ed-with
DTSTART;TZID=America/Los_Angeles:20150307T210000
DTEND;TZID=America/Los_Angeles:20150308T020000
CATEGORIES:oakland, san, francisco, somar, housemusic, soul, funk, lat
 in, aftro
LOCATION:Somar Bar 1727 Telegraph, Oakland, Ca.
WEBSITE:https://www.facebook.com/events/803819569686712
URL:https://www.facebook.com/events/803819569686712
CONTACT:
ORGANIZER:divinyl Echo Sound Collective
ATTACH;FMTTYPE="image/jpeg":http://storage.ning.com/topology/rest/1.0/
 file/get/2247973542?profile=original
ATTENDEE;ROLE=REQ-PARTICIPANT;PARTSTAT=ACCEPTED;RSVP=TRUE;CN="Rafael A
 cevedo Jr":http://trueskool.com/profile/RafaelAcevedoJr
END:VEVENT
END:VCALENDAR
