BEGIN:VCALENDAR
PRODID:NingEventWidget-v1
VERSION:2.0
METHOD:PUBLISH
BEGIN:VTIMEZONE
TZID:America/Los_Angeles
X-LIC-LOCATION:America/Los_Angeles
BEGIN:DAYLIGHT
TZOFFSETFROM:-0800
TZOFFSETTO:-0700
TZNAME:PDT
DTSTART:19700308T020000
RRULE:FREQ=YEARLY;BYMONTH=3;BYDAY=2SU
END:DAYLIGHT
BEGIN:STANDARD
TZOFFSETFROM:-0700
TZOFFSETTO:-0800
TZNAME:PST
DTSTART:19701101T020000
RRULE:FREQ=YEARLY;BYMONTH=11;BYDAY=1SU
END:STANDARD
END:VTIMEZONE
BEGIN:VEVENT
UID:1464587:Event:653391
DTSTAMP:20260420T182624Z
SUMMARY:Thievery Corporation x Cafe Tacvba
DESCRIPTION:\n Sun, Oct 2, 2016 Thievery Corporation Cafe Tacvba\nGree
 k Theatre-U.C. Berkeley, Berkeley, CA 06:30 PM >> BUY TICKETS\n\n\nFor
  more information visit http://trueskool.com/events/thievery-corporati
 on-win-tickets-1
DTSTART;TZID=America/Los_Angeles:20161002T183000
DTEND;TZID=America/Los_Angeles:20161002T230000
CATEGORIES:"bay area", berkeley
LOCATION:Greek Theatre, Berkeley, CA
WEBSITE:http://www.ticketmaster.com/event/1C0050F3EC634D09?camefrom=CF
 C_ANOTHERPLANET_ts&brand=anotherplanet
URL:http://www.ticketmaster.com/event/1C0050F3EC634D09?camefrom=CFC_AN
 OTHERPLANET_ts&brand=anotherplanet
CONTACT:
ORGANIZER:Another Planet Ent
ATTACH;FMTTYPE="image/jpeg":http://storage.ning.com/topology/rest/1.0/
 file/get/2247991342?profile=original
ATTENDEE;ROLE=REQ-PARTICIPANT;PARTSTAT=ACCEPTED;RSVP=TRUE;CN="Editor's
  Pick":http://trueskool.com/profile/RentheVinylArchaeologist
ATTENDEE;ROLE=REQ-PARTICIPANT;PARTSTAT=ACCEPTED;RSVP=TRUE;CN="Ondie A"
 :http://trueskool.com/profile/OndieA
ATTENDEE;ROLE=REQ-PARTICIPANT;PARTSTAT=ACCEPTED;RSVP=TRUE;CN=strilicio
 us:http://trueskool.com/profile/strilicious
END:VEVENT
END:VCALENDAR
