BEGIN:VCALENDAR
PRODID:NingEventWidget-v1
VERSION:2.0
METHOD:PUBLISH
BEGIN:VTIMEZONE
TZID:America/Los_Angeles
X-LIC-LOCATION:America/Los_Angeles
BEGIN:DAYLIGHT
TZOFFSETFROM:-0800
TZOFFSETTO:-0700
TZNAME:PDT
DTSTART:19700308T020000
RRULE:FREQ=YEARLY;BYMONTH=3;BYDAY=2SU
END:DAYLIGHT
BEGIN:STANDARD
TZOFFSETFROM:-0700
TZOFFSETTO:-0800
TZNAME:PST
DTSTART:19701101T020000
RRULE:FREQ=YEARLY;BYMONTH=11;BYDAY=1SU
END:STANDARD
END:VTIMEZONE
BEGIN:VEVENT
UID:1464587:Event:650815
DTSTAMP:20260420T231840Z
SUMMARY:They Might Be Giants
DESCRIPTION:Brooklyn’s very own perpetual-motion machine, They Might
  Be Giants are embarking on their final US tour for the foreseeable fu
 ture! After a year of their Dial-A-Song project where the band posted 
 a new song (and video) every week, the two-time Grammy winners are abo
 ut to release their third album of the last 12 months entitled Phone P
 ower. Following sold-out tours of the US, Australia, and UK, the band 
 is returning for a final US run before embarking on their next big mus
 ical project. Their highly spontaneous and explosive live show should 
 not be missed—otherwise see you in 2018!\n\nFor more information vis
 it http://trueskool.com/events/they-might-be-giants
DTSTART;TZID=America/Los_Angeles:20160722T210000
DTEND;TZID=America/Los_Angeles:20160723T000000
CATEGORIES:berkeley, "bay area", kids, indie
LOCATION:The UC Theatre, Berkeley, CA
WEBSITE:http://www.theuctheatre.org/event/1027995-evening-they-might-b
 e-giants-berkeley/
URL:http://www.theuctheatre.org/event/1027995-evening-they-might-be-gi
 ants-berkeley/
CONTACT:510-356-4000
ORGANIZER;CN="The UC Theatre":http://trueskool.com/profile/TheUCTheatr
 e
ATTACH;FMTTYPE="image/jpeg":http://storage.ning.com/topology/rest/1.0/
 file/get/2247989629?profile=original
ATTENDEE;ROLE=REQ-PARTICIPANT;PARTSTAT=ACCEPTED;RSVP=TRUE;CN="The UC T
 heatre":http://trueskool.com/profile/TheUCTheatre
END:VEVENT
END:VCALENDAR
