BEGIN:VCALENDAR
PRODID:NingEventWidget-v1
VERSION:2.0
METHOD:PUBLISH
BEGIN:VTIMEZONE
TZID:America/Los_Angeles
X-LIC-LOCATION:America/Los_Angeles
BEGIN:DAYLIGHT
TZOFFSETFROM:-0800
TZOFFSETTO:-0700
TZNAME:PDT
DTSTART:19700308T020000
RRULE:FREQ=YEARLY;BYMONTH=3;BYDAY=2SU
END:DAYLIGHT
BEGIN:STANDARD
TZOFFSETFROM:-0700
TZOFFSETTO:-0800
TZNAME:PST
DTSTART:19701101T020000
RRULE:FREQ=YEARLY;BYMONTH=11;BYDAY=1SU
END:STANDARD
END:VTIMEZONE
BEGIN:VEVENT
UID:1464587:Event:491161
DTSTAMP:20260420T183435Z
SUMMARY:\"THERE WILL BE BLOOD\" Tour feat. Muthafuckin' eXquire, Mibbs
  and NoCando
DESCRIPTION: “THERE WILL BE BLOOD”\nWest Coast Tour\n \nFeaturin
 g Performances By\nMr. MFN eXquire\nMIBBS (PAC Div)\nNOCANDO (Low End 
 Theory I Hellfyre Club)\n \nLive Beat Set from\nTAURUS SCOTT (SMOG Re
 cords I Hellfyre Club)\n \nSupporting DJ Set from\nPOPGANG DJs (Manic
 s)\n \nSponsored by: Rough Neck and EVRYDAY\n \nTUESDAY, DECEMBER 16
 th, 2014\nBRICK & MORTAR MUSIC HALL\n(SAN FRANCISCO)\n \n \n“THERE
  WILL BE BLOOD” is nothing short of a classic, never to be repeated,
  underground hip hop.  Featuring a stellar line up of acts from acros
 s the country, this event is a must for fans of beats, rap, hip hop, l
 yricists, and over all anyone interested in good music.  The tour wel
 comes headlining artist, Brooklyn’s own, MR. MFN EXQUIRE.  EX sprun
 g to fame in 2011 with his YouTube hit and blogger favorite, “The La
 st Huzzah” with a remix that features Danny Brown, EL-P, Despot and 
 Das Racist.  He has been praised by significant online publications s
 uch as NOISEY, Rolling Stone and Stereogum.\n \nThe tour also feature
 s the hip hop artist MIBBS who is formerly of the group PAC DIV.  MIB
 BS recently released his first solo album, “The Program”, which ha
 s been well received by the hip hop and rap communities alike.  His s
 ingle “$100” is a particular favorite of many.  Also as support w
 e have NOCANDO from Los Angeles who is one of the founding members of 
 Hellfyre Club and resident host of the international party, ‘Low End
  Theory’ as well as DJ and Producer Taurus Scott also from Hellfyre 
 Club and Low End Thoery.\n \nLocally San Francisco welcomes one of th
 e most innovative up and coming acts from the bay, POPGANG DJ’s (Man
 ics), who will be holding down the opening slot.  POPGANG is a progre
 ssive group of DJ’s and PRODUCERS that have been catching a ton of r
 ecent buzz and making waves within the local party and DJ scenes.\n\nF
 or more information visit http://trueskool.com/events/there-will-be-bl
 ood-tour-feat-muthafuckin-exquire-mibbs-and
DTSTART;TZID=America/Los_Angeles:20141216T200000
DTEND;TZID=America/Los_Angeles:20141217T020000
CATEGORIES:"san francisco", oakland, "san jose", "bay area", concord, 
 modelsto, petaluma
LOCATION:Brick & Mortar, San Francisco, CA
WEBSITE:http://www.eventbrite.com/e/there-will-be-blood-tour-tickets-1
 4538475973?aff=es2&rank=1
URL:http://www.eventbrite.com/e/there-will-be-blood-tour-tickets-14538
 475973?aff=es2&rank=1
CONTACT:
ORGANIZER;CN="Traci P":http://trueskool.com/profile/TraciP
ATTACH;FMTTYPE="image/jpeg":http://storage.ning.com/topology/rest/1.0/
 file/get/2247971324?profile=original
ATTENDEE;ROLE=REQ-PARTICIPANT;PARTSTAT=ACCEPTED;RSVP=TRUE;CN="Traci P"
 :http://trueskool.com/profile/TraciP
END:VEVENT
END:VCALENDAR
