BEGIN:VCALENDAR
PRODID:NingEventWidget-v1
VERSION:2.0
METHOD:PUBLISH
BEGIN:VTIMEZONE
TZID:America/Los_Angeles
X-LIC-LOCATION:America/Los_Angeles
BEGIN:DAYLIGHT
TZOFFSETFROM:-0800
TZOFFSETTO:-0700
TZNAME:PDT
DTSTART:19700308T020000
RRULE:FREQ=YEARLY;BYMONTH=3;BYDAY=2SU
END:DAYLIGHT
BEGIN:STANDARD
TZOFFSETFROM:-0700
TZOFFSETTO:-0800
TZNAME:PST
DTSTART:19701101T020000
RRULE:FREQ=YEARLY;BYMONTH=11;BYDAY=1SU
END:STANDARD
END:VTIMEZONE
BEGIN:VEVENT
UID:1464587:Event:550190
DTSTAMP:20260420T214753Z
SUMMARY:Theophilus London (Los Angeles)
DESCRIPTION: \nDate\nLocation\nEvent Details\nFind Tickets\n\n\nMAR 
  \n3\nTUE\n\nConstellation RoomSanta Ana, CA09:00 PM\n\nTheophilus L
 ondon with Doja Cat & FatherDetails: Theophilus London\nSee Ticketson 
 TicketWeb\n\n\n\n\n\n\nFor more information visit http://trueskool.com
 /events/theophilus-london-los-angeles-2
DTSTART;TZID=America/Los_Angeles:20150303T210000
DTEND;TZID=America/Los_Angeles:20150303T230000
CATEGORIES:"los angeles", la, "santa anna", california, ca
LOCATION:Constellation Room, Santa Anna
WEBSITE:http://www.ticketmaster.com/partner_redirect?v=mudixA8yjnSvmU6
 9oPCgtDaMDjPwYWuQ5V50732VsI5qMv_Fdtq3q4mtQc5ABg1N5kxo0EarLEq61XJZ4NAqL
 4tzR8aItttsWWZy01FNKc_GGV26299gWxXkxO44Ew3XiiNshT9VZU8s-hSTDz42MiqDAri
 IuX2ro4ymyyes5SnclB0vZfvdWPYHhtO2HA74Yj0_b9Zxey_93jS6tQ&eventid=29004D
 894C598ACB&artistid=1549406&artistname=Theophilus%20London%20with%20Do
 ja%20Cat%20&%20Father&crosssite=TM_US:1549406:343858
URL:http://www.ticketmaster.com/partner_redirect?v=mudixA8yjnSvmU69oPC
 gtDaMDjPwYWuQ5V50732VsI5qMv_Fdtq3q4mtQc5ABg1N5kxo0EarLEq61XJZ4NAqL4tzR
 8aItttsWWZy01FNKc_GGV26299gWxXkxO44Ew3XiiNshT9VZU8s-hSTDz42MiqDAriIuX2
 ro4ymyyes5SnclB0vZfvdWPYHhtO2HA74Yj0_b9Zxey_93jS6tQ&eventid=29004D894C
 598ACB&artistid=1549406&artistname=Theophilus%20London%20with%20Doja%2
 0Cat%20&%20Father&crosssite=TM_US:1549406:343858
CONTACT:
ORGANIZER;CN="Editor's Pick":http://trueskool.com/profile/RentheVinylA
 rchaeologist
ATTACH;FMTTYPE="image/jpeg":http://storage.ning.com/topology/rest/1.0/
 file/get/2247973226?profile=original
ATTENDEE;ROLE=REQ-PARTICIPANT;PARTSTAT=ACCEPTED;RSVP=TRUE;CN="Editor's
  Pick":http://trueskool.com/profile/RentheVinylArchaeologist
END:VEVENT
END:VCALENDAR
