BEGIN:VCALENDAR
PRODID:NingEventWidget-v1
VERSION:2.0
METHOD:PUBLISH
BEGIN:VTIMEZONE
TZID:America/Los_Angeles
X-LIC-LOCATION:America/Los_Angeles
BEGIN:DAYLIGHT
TZOFFSETFROM:-0800
TZOFFSETTO:-0700
TZNAME:PDT
DTSTART:19700308T020000
RRULE:FREQ=YEARLY;BYMONTH=3;BYDAY=2SU
END:DAYLIGHT
BEGIN:STANDARD
TZOFFSETFROM:-0700
TZOFFSETTO:-0800
TZNAME:PST
DTSTART:19701101T020000
RRULE:FREQ=YEARLY;BYMONTH=11;BYDAY=1SU
END:STANDARD
END:VTIMEZONE
BEGIN:VEVENT
UID:1464587:Event:365765
DTSTAMP:20260420T235314Z
SUMMARY:theLIFT 'LIVE' presents ELECTRIC WIRE HUSTLE
DESCRIPTION:theLIFT 'LIVE' presents the return of ELECTRIC WIRE HUSTL
 E\n+ opening dj sets by theLIFT resident/creators: JEREMY SOLE (KCRW /
  theLIFT -LA) WISEACRE (the303 at LOUIE AND CHAN - NYC)\nProduced by 
 theLIFT ringleader: JONATHAN RUDNICK\n \"Already given the coveted GIL
 LES PETERSON seal of approval... Electric Wire Hustle are on their way
  to groundbreaking status.\" -Okayplayer.com\"A great blend of forwar
 d thinking hip hop, jazz and soul.\"-Waajeed (Platinum Pied Pipers, Bl
 ing47, Ubiquity)\"Electric Wire Hustle have fulfilled their early prom
 ise by crafting a dynamic album to woo both the songwriters and beat j
 unkies.\" -Straight No Chaser\nADVANCE tix @\nget your Limited $12 adv
 ance tix now before they sell out !!\nOne of New Zealand's most in-de
 mand exports, modern soul outfit ELECTRIC WIRE HUSTLE are set to make 
 their most welcome return to LA at the Bootleg HiFi and also triumphan
 tly to your heavy rotation \"New Releases\" crate.\nThe If These Are T
 he Last Days EP coming out imminently on June 2nd on Okayplayer and pr
 oviding a seriously tasty preview of what's to come, features two stel
 lar album cuts, along with @eliphino and RBMA grad @flako on remix dut
 ies. \nWe are happy to premiere Flako's rework of \"Bottom Line\" her
 e via Red Bull Music Academy which finds the London resident in fine f
 orm, swapping in pensively glacial key sounds for the original's resol
 ute piano.\nFollowing up on their acclaimed debut, EWH's new album \"L
 ove Can Prevail\" will see the light of day via @okayplayer and @somet
 hinksounds on September 8th - well worth the wait for sure whislt the 
 EP jumps into steady rotation !\nWith their debut self-titled album El
 ectric Wire Hustle achieved immediate cult status, a number one song o
 n Hype Machine, five-star reviews from the likes of Okayplayer, and BB
 C Radio support from the likes of Gilles Peterson, Benji B and visuall
 y every worldwide DJ.\nDemand for their live show has seen EWH perform
  in 14 countries, appearing at festivals such as Glastonbury, Dour, So
 nar, Sziget, SXSW, Gilles Peterson’s Worldwide and New York’s CMJ 
 and now at last EWH return to LA for a sneak preview full live show of
  all the goodness that's to come !\nPlease Join us in welcoming back t
 he mighty ELECTRIC WIRE HUSTLE to theLIFT 'LIVE'\n\nFor more informat
 ion visit http://trueskool.com/events/thelift-live-presents-electric-w
 ire-hustle
DTSTART;TZID=America/Los_Angeles:20140603T200000
DTEND;TZID=America/Los_Angeles:20140604T000000
CATEGORIES:"los angeles", "electric wire hustle"
LOCATION:Bootleg Bar
WEBSITE:http://foldsilverlake.com/event.cfm?id=155581&cart
URL:http://foldsilverlake.com/event.cfm?id=155581&cart
CONTACT:
ORGANIZER:theLIFT LIVE
ATTACH;FMTTYPE="image/jpeg":http://storage.ning.com/topology/rest/1.0/
 file/get/2247962047?profile=original
ATTENDEE;ROLE=REQ-PARTICIPANT;PARTSTAT=ACCEPTED;RSVP=TRUE;CN="Jonathan
  Rudnick":http://trueskool.com/profile/JonathanRudnick
END:VEVENT
END:VCALENDAR
