BEGIN:VCALENDAR
PRODID:NingEventWidget-v1
VERSION:2.0
METHOD:PUBLISH
BEGIN:VTIMEZONE
TZID:America/Los_Angeles
X-LIC-LOCATION:America/Los_Angeles
BEGIN:DAYLIGHT
TZOFFSETFROM:-0800
TZOFFSETTO:-0700
TZNAME:PDT
DTSTART:19700308T020000
RRULE:FREQ=YEARLY;BYMONTH=3;BYDAY=2SU
END:DAYLIGHT
BEGIN:STANDARD
TZOFFSETFROM:-0700
TZOFFSETTO:-0800
TZNAME:PST
DTSTART:19701101T020000
RRULE:FREQ=YEARLY;BYMONTH=11;BYDAY=1SU
END:STANDARD
END:VTIMEZONE
BEGIN:VEVENT
UID:1464587:Event:641829
DTSTAMP:20260420T214519Z
SUMMARY:The Western Journey Tour
DESCRIPTION:Cannon and The Lion of Judah band, featuring I-Triniti and
  special guest Rafijah Siano will be performing live authentic roots a
 nd dancehall reggae music with flavors from the U.S. Virgin Islands, H
 awaii, and California.\nCannon and The Lion of Judah, a roots reggae b
 and with members from St. Croix, St. Thomas (USVI) and Seattle.  Cann
 on has inspired audiences and shared the stage with international tale
 nts such as The Wailers, Jimmy Cliff, Yellowman, Winston Jarrett, The 
 Ethiopians, and more.\nRastafari Messenjah I-Triniti aka Amha Selassie
  Baraka brings a fresh, original, underground roots reggae sound of th
 e ghettos of Washington D.C.  I-Triniti is known as the co-founder of
  Jahkuumba, performed with Creation Rebel and Caravan, and has also sh
 ared the stage with Lutan Fyah, Everton Blender, Keith Porter of the I
 tals, and The Ethiopians. \nRafijah Siano, out of St. Thomas USVI, br
 ings modern reggae dancehall tunes and wicked lyrics to the lineup.  
 This talented young man has been tearing up the music scene with his n
 ew album Alionated.  Rafijah Siano is a versatile and a spiritually i
 nspired artist. Born in the international tourist destination of the V
 irgin Islands from Latin parents helped Rafijah attract all types of f
 ans from the Caribbean, Latin America, North America, Europe, Africa a
 nd Asia. Although Reggae is his main forte, Rafijah has used Rap, R&B,
  Soca, Calypso, Reggaeton, Bachata, Merengue, Kompa and Zouk in his mu
 sic. Due to his ability to cross over and reach many cultures, Rafijah
  has made a name for himself in World Music.\n\nFor more information v
 isit http://trueskool.com/events/the-western-journey-tour
DTSTART;TZID=America/Los_Angeles:20160305T200000
DTEND;TZID=America/Los_Angeles:20160306T020000
CATEGORIES:caspar, mendocino
LOCATION:The Caspar Inn, Caspar, California
WEBSITE:https://www.bing.com/mapspreview?rtp=adr.~pos.39.3645935058594
 _-123.814407348633_14957+Caspar+Rd+%23+3%2c+Caspar%2c+CA+95420_Caspar+
 Inn_(707)+964-5565
URL:https://www.bing.com/mapspreview?rtp=adr.~pos.39.3645935058594_-12
 3.814407348633_14957+Caspar+Rd+%23+3%2c+Caspar%2c+CA+95420_Caspar+Inn_
 (707)+964-5565
CONTACT:(707) 964-5565
ORGANIZER;CN="Herman Ta' Zayah Hendricks":http://trueskool.com/profile
 /HermanTaZayahHendricks
ATTACH;FMTTYPE="image/jpeg":http://storage.ning.com/topology/rest/1.0/
 file/get/2247981869?profile=original
ATTENDEE;ROLE=REQ-PARTICIPANT;PARTSTAT=ACCEPTED;RSVP=TRUE;CN="Herman T
 a' Zayah Hendricks":http://trueskool.com/profile/HermanTaZayahHendrick
 s
END:VEVENT
END:VCALENDAR
