BEGIN:VCALENDAR
PRODID:NingEventWidget-v1
VERSION:2.0
METHOD:PUBLISH
BEGIN:VTIMEZONE
TZID:America/Los_Angeles
X-LIC-LOCATION:America/Los_Angeles
BEGIN:DAYLIGHT
TZOFFSETFROM:-0800
TZOFFSETTO:-0700
TZNAME:PDT
DTSTART:19700308T020000
RRULE:FREQ=YEARLY;BYMONTH=3;BYDAY=2SU
END:DAYLIGHT
BEGIN:STANDARD
TZOFFSETFROM:-0700
TZOFFSETTO:-0800
TZNAME:PST
DTSTART:19701101T020000
RRULE:FREQ=YEARLY;BYMONTH=11;BYDAY=1SU
END:STANDARD
END:VTIMEZONE
BEGIN:VEVENT
UID:1464587:Event:661627
DTSTAMP:20260421T040125Z
SUMMARY:THE WAILING SOULS
DESCRIPTION:THE WAILING SOULS\nThe IndependentSan Francisco, CATuesday
 , June 13, 2017Show: 9:00pm\nThis event is 21 and over\n$25.00 – Gen
 eral Admission\n*plus applicable service fees\nThe general on sale beg
 ins Friday, April 7th at noon.\nTickets available at The Independent b
 ox office (628 Divisadero, SF) with no service charge.\n\nFor more inf
 ormation visit http://trueskool.com/events/the-wailing-souls
DTSTART;TZID=America/Los_Angeles:20170613T210000
DTEND;TZID=America/Los_Angeles:20170613T230000
CATEGORIES:"san francisco", oakland, berkley, "san jose", "bay area"
LOCATION:The Independent, SF
WEBSITE:https://www.ticketfly.com/purchase/event/1464126?camefrom=CFC_
 ANOTHERPLANET_web&brand=anotherplanet
URL:https://www.ticketfly.com/purchase/event/1464126?camefrom=CFC_ANOT
 HERPLANET_web&brand=anotherplanet
CONTACT:
ORGANIZER;CN="Editor's Pick":http://trueskool.com/profile/RentheVinylA
 rchaeologist
ATTACH;FMTTYPE="image/jpeg":http://storage.ning.com/topology/rest/1.0/
 file/get/2247996086?profile=original
ATTENDEE;ROLE=REQ-PARTICIPANT;PARTSTAT=ACCEPTED;RSVP=TRUE;CN="Editor's
  Pick":http://trueskool.com/profile/RentheVinylArchaeologist
END:VEVENT
END:VCALENDAR
