BEGIN:VCALENDAR
PRODID:NingEventWidget-v1
VERSION:2.0
METHOD:PUBLISH
BEGIN:VTIMEZONE
TZID:America/Los_Angeles
X-LIC-LOCATION:America/Los_Angeles
BEGIN:DAYLIGHT
TZOFFSETFROM:-0800
TZOFFSETTO:-0700
TZNAME:PDT
DTSTART:19700308T020000
RRULE:FREQ=YEARLY;BYMONTH=3;BYDAY=2SU
END:DAYLIGHT
BEGIN:STANDARD
TZOFFSETFROM:-0700
TZOFFSETTO:-0800
TZNAME:PST
DTSTART:19701101T020000
RRULE:FREQ=YEARLY;BYMONTH=11;BYDAY=1SU
END:STANDARD
END:VTIMEZONE
BEGIN:VEVENT
UID:1464587:Event:634055
DTSTAMP:20260421T145533Z
SUMMARY:The Wailers
DESCRIPTION:Two Nights !\nThe Wailers\nThursday, August 13 2015Doors: 
 8:30 pm / SHOW: 9:00 PMThe IndependentSan Francisco, CA$29.50 ADV\n\nF
 or more information visit http://trueskool.com/events/the-wailers-2
DTSTART;TZID=America/Los_Angeles:20150813T203000
DTEND;TZID=America/Los_Angeles:20150813T230000
CATEGORIES:"san francisco", oakland, berkley, "san jose", "bay area"
LOCATION:The Independent
WEBSITE:https://www.ticketfly.com/purchase/event/872299?_ga=1.64487599
 .1824288795.1438206102
URL:https://www.ticketfly.com/purchase/event/872299?_ga=1.64487599.182
 4288795.1438206102
CONTACT:
ORGANIZER;CN="Editor's Pick":http://trueskool.com/profile/RentheVinylA
 rchaeologist
ATTACH;FMTTYPE="image/jpeg":http://storage.ning.com/topology/rest/1.0/
 file/get/2247978447?profile=original
ATTENDEE;ROLE=REQ-PARTICIPANT;PARTSTAT=ACCEPTED;RSVP=TRUE;CN=strilicio
 us:http://trueskool.com/profile/strilicious
ATTENDEE;ROLE=REQ-PARTICIPANT;PARTSTAT=ACCEPTED;RSVP=TRUE;CN="Editor's
  Pick":http://trueskool.com/profile/RentheVinylArchaeologist
END:VEVENT
END:VCALENDAR
