BEGIN:VCALENDAR
PRODID:NingEventWidget-v1
VERSION:2.0
METHOD:PUBLISH
BEGIN:VTIMEZONE
TZID:America/Los_Angeles
X-LIC-LOCATION:America/Los_Angeles
BEGIN:DAYLIGHT
TZOFFSETFROM:-0800
TZOFFSETTO:-0700
TZNAME:PDT
DTSTART:19700308T020000
RRULE:FREQ=YEARLY;BYMONTH=3;BYDAY=2SU
END:DAYLIGHT
BEGIN:STANDARD
TZOFFSETFROM:-0700
TZOFFSETTO:-0800
TZNAME:PST
DTSTART:19701101T020000
RRULE:FREQ=YEARLY;BYMONTH=11;BYDAY=1SU
END:STANDARD
END:VTIMEZONE
BEGIN:VEVENT
UID:1464587:Event:100767
DTSTAMP:20260420T015612Z
SUMMARY:The W-Beez w/ Jazz Mafia Horns @ Boom Boom Room
DESCRIPTION:The W-Beez w/ Jazz Mafia Horns @ Boom Boom Room\n \n21+ 
 \n \n$10 ADV \n \nFor ticket Information:\nhttp://www.boomboomticke
 ts.com/events/167551/%22The%20W-BEEZ%22%20(WILL%20BERNARD-WIL%20BLADES
 -JAZZ%20MAFIA%20HORNS-B.%20..\n\nFor more information visit http://tru
 eskool.com/events/the-w-beez-w-jazz-mafia-horns-boom-boom-room
DTSTART;TZID=America/Los_Angeles:20110923T213000
DTEND;TZID=America/Los_Angeles:20110923T233000
CATEGORIES:san, francisco, ca
LOCATION:Boom Boom Room, San Francisco, CA
WEBSITE:http://www.boomboomtickets.com/events/167551/%22The%20W-BEEZ%2
 2%20(WILL%20BERNARD-WIL%20BLADES-JAZZ%20MAFIA%20HORNS-B.%20..
URL:http://www.boomboomtickets.com/events/167551/%22The%20W-BEEZ%22%20
 (WILL%20BERNARD-WIL%20BLADES-JAZZ%20MAFIA%20HORNS-B.%20..
CONTACT:415 673 8000
ORGANIZER;CN="Yonas Media":http://trueskool.com/profile/YonasMedia
ATTACH;FMTTYPE="image/jpeg":http://storage.ning.com/topology/rest/1.0/
 file/get/2247902154?profile=original
ATTENDEE;ROLE=REQ-PARTICIPANT;PARTSTAT=ACCEPTED;RSVP=TRUE;CN="Yonas Me
 dia":http://trueskool.com/profile/YonasMedia
END:VEVENT
END:VCALENDAR
