BEGIN:VCALENDAR
PRODID:NingEventWidget-v1
VERSION:2.0
METHOD:PUBLISH
BEGIN:VTIMEZONE
TZID:America/Los_Angeles
X-LIC-LOCATION:America/Los_Angeles
BEGIN:DAYLIGHT
TZOFFSETFROM:-0800
TZOFFSETTO:-0700
TZNAME:PDT
DTSTART:19700308T020000
RRULE:FREQ=YEARLY;BYMONTH=3;BYDAY=2SU
END:DAYLIGHT
BEGIN:STANDARD
TZOFFSETFROM:-0700
TZOFFSETTO:-0800
TZNAME:PST
DTSTART:19701101T020000
RRULE:FREQ=YEARLY;BYMONTH=11;BYDAY=1SU
END:STANDARD
END:VTIMEZONE
BEGIN:VEVENT
UID:1464587:Event:71971
DTSTAMP:20260421T051638Z
SUMMARY:The Ultimate Old School Party!
DESCRIPTION:\nKeepin' it Old School like we always do. This month we f
 eature hip hop legend Rob Base performing all his smash hits including
  the mega-hit \"It Takes Two\" Join D'Jam Hassan and friends in the mi
 x as they flash back, and you reminisce on the good ol' times when a p
 arty was a PARTY!\n\nFor more information visit http://trueskool.com/e
 vents/the-ultimate-old-school-party-1
DTSTART;TZID=America/Los_Angeles:20101203T210000
DTEND;TZID=America/Los_Angeles:20101204T020000
CATEGORIES:avalon, rob, base, coro, old, school, ultimate, djam, hassa
 n
LOCATION:Avalon Nightclub, Santa Clara, California
WEBSITE:http://www.avalonsantaclara.com/
URL:http://www.avalonsantaclara.com/
CONTACT:408.241.0777
ORGANIZER;CN="Best Kept Secret":http://trueskool.com/profile/BestKeptS
 ecret
ATTACH;FMTTYPE="image/jpeg":http://storage.ning.com/topology/rest/1.0/
 file/get/2187319006?profile=original
ATTENDEE;ROLE=REQ-PARTICIPANT;PARTSTAT=ACCEPTED;RSVP=TRUE;CN="Best Kep
 t Secret":http://trueskool.com/profile/BestKeptSecret
END:VEVENT
END:VCALENDAR
