BEGIN:VCALENDAR
PRODID:NingEventWidget-v1
VERSION:2.0
METHOD:PUBLISH
BEGIN:VTIMEZONE
TZID:America/Los_Angeles
X-LIC-LOCATION:America/Los_Angeles
BEGIN:DAYLIGHT
TZOFFSETFROM:-0800
TZOFFSETTO:-0700
TZNAME:PDT
DTSTART:19700308T020000
RRULE:FREQ=YEARLY;BYMONTH=3;BYDAY=2SU
END:DAYLIGHT
BEGIN:STANDARD
TZOFFSETFROM:-0700
TZOFFSETTO:-0800
TZNAME:PST
DTSTART:19701101T020000
RRULE:FREQ=YEARLY;BYMONTH=11;BYDAY=1SU
END:STANDARD
END:VTIMEZONE
BEGIN:VEVENT
UID:1464587:Event:58504
DTSTAMP:20260421T051622Z
SUMMARY:\"THE TRUTH\" ONE BE LO of BINARY STAR LIVE w/band
DESCRIPTION:TRUE + REIGNFOREST COLLECTIVE invite you to\n\n*THE TRUTH*
 \nSATURDAY JUNE 5th\nROCKIT ROOM SF\n\n\nFeaturing\n\nONE BE LO\n(of B
 inary Star performing with members of his new all-female band DOUBLE L
 O7)\n\n+ Raw Lyricism by\n\nJERN EYE (lunar heights)\nDAVINCI (swtbrds
 )\nBROKEN HALOS\nMANDEEP SETHI (sf zulus)\n\n+ DJ sets from\n\nBOOGIE 
 BROWN (getlive sf/the formula)\nXARIUSOUND (reignforest collective/tru
 eindeed)\nCEDICATION.CRIMES (reignforest collective/trueindeed)\n\n+ h
 osted by\n\nRONOSTALGIA (reignforest collective)\nGETLIVE.RO (getlive 
 sf)\n\n+ guestlist and more info @\nGOING.COM/THETRUTH\n\nSATURDAY JUN
 E 5th\nROCKIT ROOM SF\n406 Clement St. SF\n21+\n$10\n\nFor more inform
 ation visit http://trueskool.com/events/the-truth-one-be-lo-of-binary
DTSTART;TZID=America/Los_Angeles:20100605T210000
DTEND;TZID=America/Los_Angeles:20100606T020000
CATEGORIES:hip, hop
LOCATION:ROCKIT ROOM, SAN FRANCISCO, CA.
WEBSITE:http://www.facebook.com/event.php?eid=127177720639714
URL:http://www.facebook.com/event.php?eid=127177720639714
CONTACT:
ORGANIZER:Reignforest Collective
ATTACH;FMTTYPE="image/jpeg":http://storage.ning.com/topology/rest/1.0/
 file/get/2247879621?profile=original
ATTENDEE;ROLE=REQ-PARTICIPANT;PARTSTAT=ACCEPTED;RSVP=TRUE;CN="Ron Ilog
 ":http://trueskool.com/profile/RonIlog
END:VEVENT
END:VCALENDAR
