BEGIN:VCALENDAR
PRODID:NingEventWidget-v1
VERSION:2.0
METHOD:PUBLISH
BEGIN:VTIMEZONE
TZID:America/Los_Angeles
X-LIC-LOCATION:America/Los_Angeles
BEGIN:DAYLIGHT
TZOFFSETFROM:-0800
TZOFFSETTO:-0700
TZNAME:PDT
DTSTART:19700308T020000
RRULE:FREQ=YEARLY;BYMONTH=3;BYDAY=2SU
END:DAYLIGHT
BEGIN:STANDARD
TZOFFSETFROM:-0700
TZOFFSETTO:-0800
TZNAME:PST
DTSTART:19701101T020000
RRULE:FREQ=YEARLY;BYMONTH=11;BYDAY=1SU
END:STANDARD
END:VTIMEZONE
BEGIN:VEVENT
UID:1464587:Event:662854
DTSTAMP:20260420T213911Z
SUMMARY:THE TOXIC AVENGER Musical
DESCRIPTION:June 7 – July 16, 2017  \n2009 Outer Critics Circle Awa
 rd - Outstanding Musical\nRegional Premiere  THE TOXIC AVENGER Book an
 d Lyrics by Joe DiPietro Music and Lyrics by David Bryan Based on Lloy
 d Kaufman's film of the same name Directed by Jonathan Williams\n \nT
 ICKETS: https://sjstage.vbotickets.com/event/The_Toxic_Avenger/14625\n
 FACEBOOK EVENT: https://www.facebook.com/events/1519810211386470/\n \
 n\"Infectious fun\" - The Atlanta Journal-Constitution   \nBased on L
 loyd Kaufman's cult film, this laugh-out-loud musical has it all: an u
 nlikely hero, his beautiful girlfriend, a corrupt New Jersey mayor, bu
 llies, mobsters, and stiletto-wearing back-up singers. \n\nFor more in
 formation visit http://trueskool.com/events/the-toxic-avenger-musical
DTSTART;TZID=America/Los_Angeles:20170607T193000
DTEND;TZID=America/Los_Angeles:20170716T140000
CATEGORIES:san, jose, stage, company, silicon, valley
LOCATION:San Jose Stage Company, San Jose, CA
WEBSITE:https://sjstage.vbotickets.com/event/The_Toxic_Avenger/14625
URL:https://sjstage.vbotickets.com/event/The_Toxic_Avenger/14625
CONTACT:408-283-7142
ORGANIZER;CN="San Jose Stage Company":http://trueskool.com/profile/San
 JoseStageCompany
ATTACH;FMTTYPE="image/jpeg":http://storage.ning.com/topology/rest/1.0/
 file/get/2247998930?profile=original
ATTENDEE;ROLE=REQ-PARTICIPANT;PARTSTAT=ACCEPTED;RSVP=TRUE;CN="San Jose
  Stage Company":http://trueskool.com/profile/SanJoseStageCompany
END:VEVENT
END:VCALENDAR
