BEGIN:VCALENDAR
PRODID:NingEventWidget-v1
VERSION:2.0
METHOD:PUBLISH
BEGIN:VTIMEZONE
TZID:America/Los_Angeles
X-LIC-LOCATION:America/Los_Angeles
BEGIN:DAYLIGHT
TZOFFSETFROM:-0800
TZOFFSETTO:-0700
TZNAME:PDT
DTSTART:19700308T020000
RRULE:FREQ=YEARLY;BYMONTH=3;BYDAY=2SU
END:DAYLIGHT
BEGIN:STANDARD
TZOFFSETFROM:-0700
TZOFFSETTO:-0800
TZNAME:PST
DTSTART:19701101T020000
RRULE:FREQ=YEARLY;BYMONTH=11;BYDAY=1SU
END:STANDARD
END:VTIMEZONE
BEGIN:VEVENT
UID:1464587:Event:554301
DTSTAMP:20260420T214444Z
SUMMARY:The Temptations (New Orleans)
DESCRIPTION:\nDate\nLocation\nEvent Details\nFind Tickets\n\n\nMAR  
 \n13\nFRI\n\nIP Casino Resort and SpaBiloxi, MS08:00 PM\n\nThe Tempta
 tions and the Four TopsDetails: The Temptations, The Four Tops\nSee T
 ickets\n\n\n\n\nFor more information visit http://trueskool.com/events
 /the-temptations-new-orleans
DTSTART;TZID=America/Los_Angeles:20150313T200000
DTEND;TZID=America/Los_Angeles:20150313T230000
CATEGORIES:"new orleans", louisiana, la
LOCATION:IP Casino Resort and Spa, Biloxi MS
WEBSITE:http://www.ticketmaster.com/the-temptations-and-the-four-tops-
 biloxi-mississippi-03-13-2015/event/1B004E23CB143C1A?artistid=736274&m
 ajorcatid=10001&minorcatid=202&tm_link=artist_msg-0_1B004E23CB143C1A
URL:http://www.ticketmaster.com/the-temptations-and-the-four-tops-bilo
 xi-mississippi-03-13-2015/event/1B004E23CB143C1A?artistid=736274&major
 catid=10001&minorcatid=202&tm_link=artist_msg-0_1B004E23CB143C1A
CONTACT:
ORGANIZER;CN="Editor's Pick":http://trueskool.com/profile/RentheVinylA
 rchaeologist
ATTACH;FMTTYPE="image/jpeg":http://storage.ning.com/topology/rest/1.0/
 file/get/2247973258?profile=original
ATTENDEE;ROLE=REQ-PARTICIPANT;PARTSTAT=ACCEPTED;RSVP=TRUE;CN="Editor's
  Pick":http://trueskool.com/profile/RentheVinylArchaeologist
END:VEVENT
END:VCALENDAR
