BEGIN:VCALENDAR
PRODID:NingEventWidget-v1
VERSION:2.0
METHOD:PUBLISH
BEGIN:VTIMEZONE
TZID:America/Los_Angeles
X-LIC-LOCATION:America/Los_Angeles
BEGIN:DAYLIGHT
TZOFFSETFROM:-0800
TZOFFSETTO:-0700
TZNAME:PDT
DTSTART:19700308T020000
RRULE:FREQ=YEARLY;BYMONTH=3;BYDAY=2SU
END:DAYLIGHT
BEGIN:STANDARD
TZOFFSETFROM:-0700
TZOFFSETTO:-0800
TZNAME:PST
DTSTART:19701101T020000
RRULE:FREQ=YEARLY;BYMONTH=11;BYDAY=1SU
END:STANDARD
END:VTIMEZONE
BEGIN:VEVENT
UID:1464587:Event:650485
DTSTAMP:20260420T153748Z
SUMMARY:The Strictly Business 30 Year Anniversary Tour ft EPMD Live
DESCRIPTION:Supabad Entertainment Presents\nThe Strictly Business 30 Y
 ear Anniversary Tour\nFeaturing Legendary Hip Hop Group 'EPMD'\nDo Not
  Miss Out On This Historic Hip Hop Event as Erick Sermon & Parish Smit
 h Perform All Their Hits On This Night In San Francisco. Also Enjoy Ol
  Skool Party Music by Original Djs Pos Red & LL Supreme in the Mix Bef
 ore and After The Show.\nThursday July 21st 2016 Public Works 161 Erie
  Street San Francisco\nDjs In The Mix Before and After The Show Supers
 tar Pos Red & LL Supreme\n10pm Doors 21 & Over\nStanding Room Only\nTi
 ckets Available Now, click here\nhttps://www.eventbrite.com/e/the-stri
 ctly-business-30-year-anniversary-tour-featuring-epmd-tickets-25757105
 195\n\nFor more information visit http://trueskool.com/events/the-stri
 ctly-business-30-year-anniversary-tour-ft-epmd-live
DTSTART;TZID=America/Los_Angeles:20160721T220000
DTEND;TZID=America/Los_Angeles:20160722T020000
CATEGORIES:"hip hop", music, "san francisco"
LOCATION:Public Works
WEBSITE:https://www.eventbrite.com/e/the-strictly-business-30-year-ann
 iversary-tour-featuring-epmd-tickets-25757105195
URL:https://www.eventbrite.com/e/the-strictly-business-30-year-anniver
 sary-tour-featuring-epmd-tickets-25757105195
CONTACT:
ORGANIZER;CN="Supabad Entertainment":http://trueskool.com/profile/Supa
 badEnt
ATTACH;FMTTYPE="image/jpeg":http://storage.ning.com/topology/rest/1.0/
 file/get/2247989529?profile=original
ATTENDEE;ROLE=REQ-PARTICIPANT;PARTSTAT=ACCEPTED;RSVP=TRUE;CN="Supabad 
 Entertainment":http://trueskool.com/profile/SupabadEnt
END:VEVENT
END:VCALENDAR
