BEGIN:VCALENDAR
PRODID:NingEventWidget-v1
VERSION:2.0
METHOD:PUBLISH
BEGIN:VTIMEZONE
TZID:America/Los_Angeles
X-LIC-LOCATION:America/Los_Angeles
BEGIN:DAYLIGHT
TZOFFSETFROM:-0800
TZOFFSETTO:-0700
TZNAME:PDT
DTSTART:19700308T020000
RRULE:FREQ=YEARLY;BYMONTH=3;BYDAY=2SU
END:DAYLIGHT
BEGIN:STANDARD
TZOFFSETFROM:-0700
TZOFFSETTO:-0800
TZNAME:PST
DTSTART:19701101T020000
RRULE:FREQ=YEARLY;BYMONTH=11;BYDAY=1SU
END:STANDARD
END:VTIMEZONE
BEGIN:VEVENT
UID:1464587:Event:652569
DTSTAMP:20260420T121356Z
SUMMARY:The Soul Rebels Sound System Ft. Talib Kweli (WIN TICKETS)
DESCRIPTION:ENTER TO WIN A PAIR OF TICKETS. WINNER WILL BE DRAWN RANDO
 MLY AND ANNOUNCED 2 DAYS PRIOR TO EVENT.  \n Saturday, September 24,
  2016 The Soul Rebels Sound System Ft. Talib Kweli\n@ The Fillmore, Sa
 n Francisco Doors 8:00 p.m. // Show 9:00 p.m. Tickets are $28.50 BUY T
 ICKETS\n\n\nFor more information visit http://trueskool.com/events/the
 -soul-rebels-sound-system-ft-talib-kweli
DTSTART;TZID=America/Los_Angeles:20160924T200000
DTEND;TZID=America/Los_Angeles:20160924T230000
CATEGORIES:"bay area", "san francisco"
LOCATION:The Fillmore, San Francisco
WEBSITE:http://concerts.livenation.com/event/1C0050D335814367
URL:http://concerts.livenation.com/event/1C0050D335814367
CONTACT:
ORGANIZER:Live Nation
ATTACH;FMTTYPE="image/jpeg":http://storage.ning.com/topology/rest/1.0/
 file/get/2247990384?profile=original
ATTENDEE;ROLE=REQ-PARTICIPANT;PARTSTAT=ACCEPTED;RSVP=TRUE;CN="Frank Vi
 loria":http://trueskool.com/profile/DJILLusive
ATTENDEE;ROLE=REQ-PARTICIPANT;PARTSTAT=ACCEPTED;RSVP=TRUE;CN="Akua Mic
 helle":http://trueskool.com/profile/AkuaMichelle
ATTENDEE;ROLE=REQ-PARTICIPANT;PARTSTAT=ACCEPTED;RSVP=TRUE;CN="Robin Bo
 uc":http://trueskool.com/profile/Rawbone
ATTENDEE;ROLE=REQ-PARTICIPANT;PARTSTAT=ACCEPTED;RSVP=TRUE;CN="Editor's
  Pick":http://trueskool.com/profile/RentheVinylArchaeologist
END:VEVENT
END:VCALENDAR
