BEGIN:VCALENDAR
PRODID:NingEventWidget-v1
VERSION:2.0
METHOD:PUBLISH
BEGIN:VTIMEZONE
TZID:America/Los_Angeles
X-LIC-LOCATION:America/Los_Angeles
BEGIN:DAYLIGHT
TZOFFSETFROM:-0800
TZOFFSETTO:-0700
TZNAME:PDT
DTSTART:19700308T020000
RRULE:FREQ=YEARLY;BYMONTH=3;BYDAY=2SU
END:DAYLIGHT
BEGIN:STANDARD
TZOFFSETFROM:-0700
TZOFFSETTO:-0800
TZNAME:PST
DTSTART:19701101T020000
RRULE:FREQ=YEARLY;BYMONTH=11;BYDAY=1SU
END:STANDARD
END:VTIMEZONE
BEGIN:VEVENT
UID:1464587:Event:326139
DTSTAMP:20260421T132736Z
SUMMARY:The Social 4/11: w/Le Vice, DUCKWRTH & RGLND, sayknowledge
DESCRIPTION:Friday April 11th @ ELBO ROOM (647 Valencia st.) Earshot E
 nt. & HeartlessWorld present: The Social $10 @ Door - Ages 21+  Live P
 erformances from:  Le Vice  DUCKWRTH & RGLND  sayknowledge  + DJ Julic
 io   LE VICE: Imagine fix wheeled bicycles chained to a yacht, dirty 
 Chuck Taylor's and Dom Perignon, Hip Hop and R&B with an indie twist. 
 They were recently coined one of the Bay's \"Bands on the Rise in 2012
 \" by the San Francisco Bay Guardian. Their LARGE sound includes throw
 back 80s synthesizers, Rick James bass lines, angular guitar licks, an
 d 808 drums. This is topped off with front woman Alex Lee's rap swagge
 r and soulful singing. The result is part throw back and part futurist
 ic. LV's sound refuses to fit into any 1 genre, but instead seems to b
 orrow from all genres, leaving them with a sound that literally has so
 mething for everyone who listens.  Le VICE's 2010 self-titled debut wa
 s a hit on college radio, getting rotation on over 80 stations nationw
 ide. The album hit the top of many of these stations charts, often hol
 ding on to the #1 spot on the charts for weeks at a time. The week the
 ir record was released they also made the CMJ Top 20 charts for \"Most
  Added\" to radio stations. Others on the list that week included Best
  Album Grammy winners Arcade Fire and Best New Artist Grammy winner Es
 peranza Spalding. Esperanza was only one spot ahead of them. All of th
 is college buzz got them a coveted showcase at that year's CMJ Festiva
 l in Brooklyn, NY.   DUCKWRTH: Recording Artist, Hails from South Cent
 ral, Resides in SF. Planning on world domination.  RGLND: If Oakland l
 yricist RGLND (pronounced rag-land) could use one word to describe him
 self, it'd probably be \"raunchy.\" Though young, the free-minded rapp
 er has some serious musical accomplishments under his belt, from graci
 ng the stage in front of thousands at Hiero Day to performing with TDE
 's Ab-Soul, Kendrick Lamar, and Schoolboy Q. Only 4 years in the game,
  it's obvious RGLND has made some major moves, but after seeing him pe
 rform, one get's a clear image this is only the beginning.   sayknowl
 edge: Praised by hip-hop enthusiasts as a young rap prodigy mature bey
 ond his years, sayknowledge has a penchant for matching \"highbrow\" l
 yricism, with street accessibility. He has a dizzyingly malleable flow
 , stretched wide by a broad range of multigenerational pop-culture ref
 erences. Raised in San Francisco, he started making music at a young a
 ge, pushing the hyphy movement with his friends until they saw it slip
  away into commercialism. Eventually he struck out on his own, forging
  new sonic paths influenced not only by the Bay Area sound, but also c
 lassic R&B, soul, reggae, & funk music. He recently released his first
  full album entitled \"Vibe Called Quest\", which was produced Mars To
 day & Mikos (40Love). It spent several weeks as the #1 most played hip
 -hop record on the CMJ (college radio) charts. And eventually ended up
  being the #10 most played hip-hop album of 2013 on CMJ.   DJ Julicio
 : Julicio first came into contact with turntables while attending high
  school in Cupertino, California, where he learned the art of scratchi
 ng and turntablism. When he moved back to Santiago, Chile in 1995, he 
 began his career playing with Chilean Rock super group Los Morton. Pro
 moters later caught wind of the young talent and booked him weekly at 
 many reputable clubs throughout Santiago, and as an opening act for vi
 siting bands including Snoop Dogg, Orishas, and Cypress Hill. After wo
 rking with Los Morton, DJ Julicio started working with La Pozze Latina
  and with Jimmy Fernandez as well as many other local talents. He trav
 eled all over Chile, Brazil, Argentina, Peru and Ecuador with Zaturno 
 Espacial (Live Band Hip-Hop).\n\nFor more information visit http://tru
 eskool.com/events/the-social-4-11-w-le-vice-duckwrth-rglnd-sayknowledg
 e
DTSTART;TZID=America/Los_Angeles:20140411T220000
DTEND;TZID=America/Los_Angeles:20140412T013000
CATEGORIES:san, francisco
LOCATION:Elbo Room
WEBSITE:http://elbo.com/Calendar.php
URL:http://elbo.com/Calendar.php
CONTACT:
ORGANIZER:Earshot Ent. & HeartlessWorld
ATTACH;FMTTYPE="image/jpeg":http://storage.ning.com/topology/rest/1.0/
 file/get/2247957920?profile=original
ATTENDEE;ROLE=REQ-PARTICIPANT;PARTSTAT=ACCEPTED;RSVP=TRUE;CN="Mars Tod
 ay":http://trueskool.com/profile/MrMarsToday
END:VEVENT
END:VCALENDAR
