BEGIN:VCALENDAR
PRODID:NingEventWidget-v1
VERSION:2.0
METHOD:PUBLISH
BEGIN:VTIMEZONE
TZID:America/Los_Angeles
X-LIC-LOCATION:America/Los_Angeles
BEGIN:DAYLIGHT
TZOFFSETFROM:-0800
TZOFFSETTO:-0700
TZNAME:PDT
DTSTART:19700308T020000
RRULE:FREQ=YEARLY;BYMONTH=3;BYDAY=2SU
END:DAYLIGHT
BEGIN:STANDARD
TZOFFSETFROM:-0700
TZOFFSETTO:-0800
TZNAME:PST
DTSTART:19701101T020000
RRULE:FREQ=YEARLY;BYMONTH=11;BYDAY=1SU
END:STANDARD
END:VTIMEZONE
BEGIN:VEVENT
UID:1464587:Event:675994
DTSTAMP:20260420T214249Z
SUMMARY:THE ROOTS
DESCRIPTION:THE ROOTS\r\nSunday, June 17, 2018 Doors: 3:00PM |Show: 5:
 00PM\r\n14831 Pierce Road Saratoga, CA 95070 THE MOUNTAIN WINERY\n\nFo
 r more information visit http://trueskool.com/events/the-roots-4
DTSTART;TZID=America/Los_Angeles:20180617T170000
DTEND;TZID=America/Los_Angeles:20180617T230000
CATEGORIES:"bay area", oakland, "san francisco", "san jose", berkeley
LOCATION:THE MOUNTAIN WINERY Saratoga
WEBSITE:https://www.axs.com/events/352515/the-roots-tickets?skin=golde
 nvoice
URL:https://www.axs.com/events/352515/the-roots-tickets?skin=goldenvoi
 ce
CONTACT:
ORGANIZER;CN="Editor's Pick":http://trueskool.com/profile/RentheVinylA
 rchaeologist
ATTACH;FMTTYPE="image/jpeg":http://storage.ning.com/topology/rest/1.0/
 file/get/2248007774?profile=original
ATTENDEE;ROLE=REQ-PARTICIPANT;PARTSTAT=ACCEPTED;RSVP=TRUE;CN="Editor's
  Pick":http://trueskool.com/profile/RentheVinylArchaeologist
END:VEVENT
END:VCALENDAR
