BEGIN:VCALENDAR
PRODID:NingEventWidget-v1
VERSION:2.0
METHOD:PUBLISH
BEGIN:VTIMEZONE
TZID:America/Los_Angeles
X-LIC-LOCATION:America/Los_Angeles
BEGIN:DAYLIGHT
TZOFFSETFROM:-0800
TZOFFSETTO:-0700
TZNAME:PDT
DTSTART:19700308T020000
RRULE:FREQ=YEARLY;BYMONTH=3;BYDAY=2SU
END:DAYLIGHT
BEGIN:STANDARD
TZOFFSETFROM:-0700
TZOFFSETTO:-0800
TZNAME:PST
DTSTART:19701101T020000
RRULE:FREQ=YEARLY;BYMONTH=11;BYDAY=1SU
END:STANDARD
END:VTIMEZONE
BEGIN:VEVENT
UID:1464587:Event:653851
DTSTAMP:20260420T133826Z
SUMMARY:The Right Time/ The Optimystics/ Barnyard Hammer
DESCRIPTION:If there is a band playing today that truly embodies the d
 iversity of the Bay Area's sound and style, it isÂ The Right Time.Â Th
 ey play everything, from 1950s Rock 'n' Roll to Rocksteady Reggae and 
 Ska... Columbian Cumbia to Hard Funk and Soul. These guys are doing it
  with a wildly diverse live show and a stacked lineup of killer Bay Ar
 ea players from multiple genres. Formally known by their long-hand nam
 e FenTon CooLfooT anf The Right Time, the band is now being booked up 
 all over Northern California as just The Right Time. Original songwrit
 ing and grooves are inspired by the tales of growing up here in the Ba
 y and of things like pretty girls, shoes, cars, and geetars live. Thei
 r brand new self-titled debut album will be the showcase, and a variet
 y of original, handmade-by-the-band merchandise available as well.\nFe
 aturing members of Soul Ska, El Radio Fantastique, Katdelic, The Shams
 , The Bad Jones, Jordan and The Ritual, and more as the lineup occasio
 nally rotates, The Right Time has recently shared the bill with some k
 iller bands in the likes of Ozomatli, Orgone, Romain Virgo, Protoje, M
 onophonics, Vinyl, Marc Ford (Black Crowes), House Of Whales, The Sham
 s, The Bad Jones, Black Slate, and many more. Bring a date and dancing
  shoes, if The Right Time is in your neighborhood this is where the pa
 rty is most definitely at. See you at the show!\nwww.facebook.com/ther
 ighttimeband\n\nÂ TheÂ Optimystics:\nFrom the fertile hills of West Ma
 rin County comes The Optimystics, a live hiphop experience guaranteed 
 to curl your toes andÂ put the wiggle in your hips. Together these fel
 lows effortlessly layer each part they play in a grand arrangement tha
 t stimulates the heart while it soothes the ear. Expect a heady synthe
 sis of Funk, Soul, Hiphop, and Blues that will leave the dance floor s
 hivering and sweating from the contact when this rootsy infusion of ki
 netic characters takes the stage.\nBarnyard Hammer:\nBarnyardÂ HammerÂ
  is an indie blues and rock n roll outfit based in the Marin Headlands
 , CA.Â  The band plays original songs that move from heavy and high en
 ergy, to somber and stripped down.Â  The band calls horse stables thei
 r home, and includes Trent Matthias (drums), Caleb Tesnow (bass), Jon 
 Blachly (guitar/vocals) and features Jim Cucuzella (guitar).\nhttps://
 www.facebook.com/BarnyardHammer/\nhttps://barnyardhammer.bandcamp.com/
 \n\n\nFor more information visit http://trueskool.com/events/the-right
 -time-the-optimystics-barnyard-hammer
DTSTART;TZID=America/Los_Angeles:20161007T210000
DTEND;TZID=America/Los_Angeles:20161008T013000
CATEGORIES:slims, san, francisco, bay, area, sf
LOCATION:Slims, San Francisco, CA
WEBSITE:http://www.slimspresents.com/event/the-right-time-slims-w-the-
 optimystics-barnyard-hammer/
URL:http://www.slimspresents.com/event/the-right-time-slims-w-the-opti
 mystics-barnyard-hammer/
CONTACT:415-255-0333
ORGANIZER;CN="FenToN CooLfooT":http://trueskool.com/profile/FenToNCooL
 fooT
ATTACH;FMTTYPE="image/jpeg":http://storage.ning.com/topology/rest/1.0/
 file/get/2247990942?profile=original
ATTENDEE;ROLE=REQ-PARTICIPANT;PARTSTAT=ACCEPTED;RSVP=TRUE;CN="FenToN C
 ooLfooT":http://trueskool.com/profile/FenToNCooLfooT
END:VEVENT
END:VCALENDAR
