BEGIN:VCALENDAR
PRODID:NingEventWidget-v1
VERSION:2.0
METHOD:PUBLISH
BEGIN:VTIMEZONE
TZID:America/Los_Angeles
X-LIC-LOCATION:America/Los_Angeles
BEGIN:DAYLIGHT
TZOFFSETFROM:-0800
TZOFFSETTO:-0700
TZNAME:PDT
DTSTART:19700308T020000
RRULE:FREQ=YEARLY;BYMONTH=3;BYDAY=2SU
END:DAYLIGHT
BEGIN:STANDARD
TZOFFSETFROM:-0700
TZOFFSETTO:-0800
TZNAME:PST
DTSTART:19701101T020000
RRULE:FREQ=YEARLY;BYMONTH=11;BYDAY=1SU
END:STANDARD
END:VTIMEZONE
BEGIN:VEVENT
UID:1464587:Event:608307
DTSTAMP:20260420T170728Z
SUMMARY:THE RIGHT TIME Live @ Amnesia W/ Special Guests from La Gente,
  Stymie and the PJLO, Jethro Jeremiah band, and The Shams
DESCRIPTION:Very, Very happy to announce that We play the last 3 Tuesd
 ays in March at Amnesia in the Mission!! This is a part of the popular
  Tuesday Residencies there. Put on by Loving Cup Presents, these 3 sho
 ws are going to be very cool. CCHECK OUT BELOW what we have devised fo
 r your up-most pleasure for March 17th, March 24th, and March 31st!!! 
 Get Ready for this!.......http://amnesiathebar.com/newp/facebook.com/t
 herighttimebandtherighttime.bandcamp.comMARCH 17TH (STt. Patricks Day)
 \"Special Guest Extravaganza\"Featuring these very special guests!!: 
 Sean Daly (The Shams) Rafael Sarria (La Gente) Jethro Jeremiah (Jeth
 ro Jeremiah Band)Stymie (Stymie and The Pimp Jones Love OrchestraSean 
 Daly (The Shams) \n\nFor more information visit http://trueskool.com/
 events/the-right-time-live-amnesia-w-special-guests-from-la-gente-stym
 -1
DTSTART;TZID=America/Los_Angeles:20150317T213000
DTEND;TZID=America/Los_Angeles:20150418T010000
CATEGORIES:amnesia, "san francisco"
LOCATION:Amnesia, San Francisco
WEBSITE:
URL:
CONTACT:415.970.0012
ORGANIZER:FenToN CooLfooT and The Right Time
ATTACH;FMTTYPE="image/jpeg":
ATTENDEE;ROLE=REQ-PARTICIPANT;PARTSTAT=ACCEPTED;RSVP=TRUE;CN="FenToN C
 ooLfooT":http://trueskool.com/profile/FenToNCooLfooT
END:VEVENT
END:VCALENDAR
