BEGIN:VCALENDAR
PRODID:NingEventWidget-v1
VERSION:2.0
METHOD:PUBLISH
BEGIN:VTIMEZONE
TZID:America/Los_Angeles
X-LIC-LOCATION:America/Los_Angeles
BEGIN:DAYLIGHT
TZOFFSETFROM:-0800
TZOFFSETTO:-0700
TZNAME:PDT
DTSTART:19700308T020000
RRULE:FREQ=YEARLY;BYMONTH=3;BYDAY=2SU
END:DAYLIGHT
BEGIN:STANDARD
TZOFFSETFROM:-0700
TZOFFSETTO:-0800
TZNAME:PST
DTSTART:19701101T020000
RRULE:FREQ=YEARLY;BYMONTH=11;BYDAY=1SU
END:STANDARD
END:VTIMEZONE
BEGIN:VEVENT
UID:1464587:Event:650645
DTSTAMP:20260421T015655Z
SUMMARY:The Psychedelic Furs, The Church
DESCRIPTION:If you were to dissect the today’s alternative rock musi
 c, you’ll find that much of it pays homage to The Psychedelic Furs. 
 Led by vocalist and songwriter Richard Butler, and his bass-wielding b
 rother Tim, the Furs scored major hits with \"Love My Way,\" \"Pretty 
 In Pink,\" \"Heaven,\" \"The Ghost In You,\" and “Heartbreak Beat”
  in all releasing seven studio albums, spawning several compilations, 
 a boxed set, and a live concert DVD.Born out of the post-punk UK rock 
 scene, the Furs quickly developed as one of the premiere bands on US C
 ollege and Modern Rock radio scoring a multitude of #1 singles.  With
  the advent of MTV in the early 80’s the band took off into the stra
 tosphere, and when John Hughes’ approached the band with his film bu
 ilt around the Furs’ song “Pretty In Pink”, the band’s legacy 
 was cemented.After a brief hiatus in the 90’s, and a side project ca
 lled “Love Spit Love\", the band regrouped at the dawn of the new mi
 llennium. The Psychedelic Furs touring lineup remains Richard Butler 
 (vocals), Tim Butler (bass), Rich Good (guitar), Mars Williams (saxoph
 one), Amanda Kramer (keyboards), and Paul Garisto (drums).\n\nFor more
  information visit http://trueskool.com/events/the-psychedelic-furs-th
 e-church
DTSTART;TZID=America/Los_Angeles:20160723T200000
DTEND;TZID=America/Los_Angeles:20160723T230000
CATEGORIES:berkeley, "bay area", post-punk, psychedelic, 80s
LOCATION:The UC Theatre, Berkeley, CA
WEBSITE:http://www.theuctheatre.org/event/1173193-psychedelic-furs-chu
 rch-berkeley/
URL:http://www.theuctheatre.org/event/1173193-psychedelic-furs-church-
 berkeley/
CONTACT:510-356-4000
ORGANIZER;CN="The UC Theatre":http://trueskool.com/profile/TheUCTheatr
 e
ATTACH;FMTTYPE="image/jpeg":http://storage.ning.com/topology/rest/1.0/
 file/get/2247989853?profile=original
ATTENDEE;ROLE=REQ-PARTICIPANT;PARTSTAT=ACCEPTED;RSVP=TRUE;CN="The UC T
 heatre":http://trueskool.com/profile/TheUCTheatre
END:VEVENT
END:VCALENDAR
