BEGIN:VCALENDAR
PRODID:NingEventWidget-v1
VERSION:2.0
METHOD:PUBLISH
BEGIN:VTIMEZONE
TZID:America/Los_Angeles
X-LIC-LOCATION:America/Los_Angeles
BEGIN:DAYLIGHT
TZOFFSETFROM:-0800
TZOFFSETTO:-0700
TZNAME:PDT
DTSTART:19700308T020000
RRULE:FREQ=YEARLY;BYMONTH=3;BYDAY=2SU
END:DAYLIGHT
BEGIN:STANDARD
TZOFFSETFROM:-0700
TZOFFSETTO:-0800
TZNAME:PST
DTSTART:19701101T020000
RRULE:FREQ=YEARLY;BYMONTH=11;BYDAY=1SU
END:STANDARD
END:VTIMEZONE
BEGIN:VEVENT
UID:1464587:Event:408631
DTSTAMP:20260420T115858Z
SUMMARY:The Prince and Michael Jackson Experience
DESCRIPTION:\nAug. 30th - Prince and Michael Jackson fans celebrate as
  DJ Dave Paul plays music from the two artists as well as songs by anc
 illary acts. The Loft at Public Works - 161 Erie St (Off Mission Betwe
 en Duboce and 14th), San Francisco, CA 94103. \nLabor Day Weekend\n$8 
 adv http://bit.ly/prmj083014qtix / $10 at the door\n\nCollectively, Pr
 ince and Michael Jackson helped define the early-'80s era of MTV, revo
 lutionized both R&B and popular music, and influenced thousands of mus
 icians worldwide. This party pays tribute to two of the greatest artis
 ts of our time.\n\nThe music is far from the only thing happening at t
 his party, there's theme dancing, a face-off between guests repping Th
 e Purple One or The King of Pop, and much, much more. This is the perf
 ect night out to lounge with your friends, make some new friends, get 
 your drink on, dance your @ss off and have the time of your life.\n\n\
 "For ELEVEN years now, Dave Paul (proprietor of hip-hop label Bomb Rec
 ords) has hosted and DJ'ed at the brilliant \"Prince vs. Michael Jacks
 on\" parties. As selections of hits, rarities, and remixes from both a
 rtists are presented over the course of the evening, audience members 
 square off in funky battle, holding signs bearing the mug of their fav
 ored entertainer to judge which one is the true king of pop. This sure
  ain't the place for cynics, but Darling Nikki's and Dirty Diana's are
  all welcome to participate.\" - SF WEEKLY\n\nPR+MJ DJ Mix -\nhttp://w
 ww.mixcrate.com/bombhiphop/the-prince-and-michael-experience-2035910\n
 \nFacebook Group -\nhttp://www.facebook.com/groups/princeandmichael\n\
 nWebsite -\nhttp://bit.ly/pvsm\n\nhttps://www.youtube.com/watch?v=AFsM
 PDVviWA\n\n\n\nhttps://www.youtube.com/watch?v=StBvIAAGSO4\n\n\n\n\n\n
 Post by Dave Paul.\n\n\nFor more information visit http://trueskool.co
 m/events/the-prince-and-michael-jackson-experience
DTSTART;TZID=America/Los_Angeles:20140830T210000
DTEND;TZID=America/Los_Angeles:20140831T020000
CATEGORIES:san, francisco, public, works
LOCATION:Public Works,San Francisco, CA
WEBSITE:https://www.facebook.com/events/500101760091063
URL:https://www.facebook.com/events/500101760091063
CONTACT:
ORGANIZER;CN="Dave Paul":http://trueskool.com/profile/DavePaul
ATTACH;FMTTYPE="image/jpeg":http://storage.ning.com/topology/rest/1.0/
 file/get/2247966628?profile=original
ATTENDEE;ROLE=REQ-PARTICIPANT;PARTSTAT=ACCEPTED;RSVP=TRUE;CN="Dave Pau
 l":http://trueskool.com/profile/DavePaul
END:VEVENT
END:VCALENDAR
