BEGIN:VCALENDAR
PRODID:NingEventWidget-v1
VERSION:2.0
METHOD:PUBLISH
BEGIN:VTIMEZONE
TZID:America/Los_Angeles
X-LIC-LOCATION:America/Los_Angeles
BEGIN:DAYLIGHT
TZOFFSETFROM:-0800
TZOFFSETTO:-0700
TZNAME:PDT
DTSTART:19700308T020000
RRULE:FREQ=YEARLY;BYMONTH=3;BYDAY=2SU
END:DAYLIGHT
BEGIN:STANDARD
TZOFFSETFROM:-0700
TZOFFSETTO:-0800
TZNAME:PST
DTSTART:19701101T020000
RRULE:FREQ=YEARLY;BYMONTH=11;BYDAY=1SU
END:STANDARD
END:VTIMEZONE
BEGIN:VEVENT
UID:1464587:Event:653758
DTSTAMP:20260420T133459Z
SUMMARY:The Prince and Michael Experience
DESCRIPTION:\nSATURDAY, SEPT 16The Prince and Michael Jackson Experien
 ce\nThe Prince and Michael Jackson Experience with DJ Dave Paul playin
 g album cuts, b-sides, un-released tracks, remixes, 12\" versions and 
 the hits from the two artists as well as songs by ancillary acts.   N
 eck of the Woods 406 Clement Street - San Francisco, CA 94118 9:00pm -
  1:30am / $10 / 21+  Collectively, Prince and Michael Jackson helped d
 efine the early-'80s era of MTV, revolutionized both R&B and popular m
 usic, and influenced thousands of musicians worldwide. This party pays
  tribute to two of the greatest artists of our time.\n\nFor more infor
 mation visit http://trueskool.com/events/the-prince-and-michael-experi
 ence-4
DTSTART;TZID=America/Los_Angeles:20160916T210000
DTEND;TZID=America/Los_Angeles:20160917T013000
CATEGORIES:san, francisco
LOCATION:Neck of the Woods, San Francisco, CA
WEBSITE:https://www.facebook.com/events/209722256088626/
URL:https://www.facebook.com/events/209722256088626/
CONTACT:
ORGANIZER;CN="Dave Paul":http://trueskool.com/profile/DavePaul
ATTACH;FMTTYPE="image/jpeg":http://storage.ning.com/topology/rest/1.0/
 file/get/2247991737?profile=original
ATTENDEE;ROLE=REQ-PARTICIPANT;PARTSTAT=ACCEPTED;RSVP=TRUE;CN="Dave Pau
 l":http://trueskool.com/profile/DavePaul
END:VEVENT
END:VCALENDAR
