BEGIN:VCALENDAR
PRODID:NingEventWidget-v1
VERSION:2.0
METHOD:PUBLISH
BEGIN:VTIMEZONE
TZID:America/Los_Angeles
X-LIC-LOCATION:America/Los_Angeles
BEGIN:DAYLIGHT
TZOFFSETFROM:-0800
TZOFFSETTO:-0700
TZNAME:PDT
DTSTART:19700308T020000
RRULE:FREQ=YEARLY;BYMONTH=3;BYDAY=2SU
END:DAYLIGHT
BEGIN:STANDARD
TZOFFSETFROM:-0700
TZOFFSETTO:-0800
TZNAME:PST
DTSTART:19701101T020000
RRULE:FREQ=YEARLY;BYMONTH=11;BYDAY=1SU
END:STANDARD
END:VTIMEZONE
BEGIN:VEVENT
UID:1464587:Event:640531
DTSTAMP:20260420T232040Z
SUMMARY:The Prince and Michael Experience
DESCRIPTION:Feb 26 - The Prince and Michael Jackson Experience with DJ
  Dave Paul playing album cuts, b-sides, un-released tracks, remixes, 1
 2\" versions and the hits from the two artists as well as songs by anc
 illary acts. Hue Lounge & Nightclub447 Broadway, San Francisco, CA 94
 1339:00pm / $10 advance, $15 door / 21+ w IDAdvance tickets at http:/
 /prmjfeb26tix.eventbrite.com/Collectively, Prince and Michael Jackson 
 helped define the early-'80s era of MTV, revolutionized both R&B and p
 opular music, and influenced thousands of musicians worldwide. This pa
 rty pays tribute to two of the greatest artists of our time.\n\nFor mo
 re information visit http://trueskool.com/events/the-prince-and-michae
 l-experience-3
DTSTART;TZID=America/Los_Angeles:20160226T210000
DTEND;TZID=America/Los_Angeles:20160227T140000
CATEGORIES:san, francisco
LOCATION:Hue Lounge & Nightclub, San Francisco
WEBSITE:https://www.facebook.com/events/1536836886630028/
URL:https://www.facebook.com/events/1536836886630028/
CONTACT:
ORGANIZER;CN="Dave Paul":http://trueskool.com/profile/DavePaul
ATTACH;FMTTYPE="image/jpeg":http://storage.ning.com/topology/rest/1.0/
 file/get/2247983206?profile=original
ATTENDEE;ROLE=REQ-PARTICIPANT;PARTSTAT=ACCEPTED;RSVP=TRUE;CN="Dave Pau
 l":http://trueskool.com/profile/DavePaul
END:VEVENT
END:VCALENDAR
