BEGIN:VCALENDAR
PRODID:NingEventWidget-v1
VERSION:2.0
METHOD:PUBLISH
BEGIN:VTIMEZONE
TZID:America/Los_Angeles
X-LIC-LOCATION:America/Los_Angeles
BEGIN:DAYLIGHT
TZOFFSETFROM:-0800
TZOFFSETTO:-0700
TZNAME:PDT
DTSTART:19700308T020000
RRULE:FREQ=YEARLY;BYMONTH=3;BYDAY=2SU
END:DAYLIGHT
BEGIN:STANDARD
TZOFFSETFROM:-0700
TZOFFSETTO:-0800
TZNAME:PST
DTSTART:19701101T020000
RRULE:FREQ=YEARLY;BYMONTH=11;BYDAY=1SU
END:STANDARD
END:VTIMEZONE
BEGIN:VEVENT
UID:1464587:Event:131633
DTSTAMP:20260419T062844Z
SUMMARY:The Political Future of Medical Marijuana
DESCRIPTION:\nPlease join us on the discussion with Peace and Freedom 
 Party Presidential Candidate Roseanne Barr, \"Ganga Guru\" Ed Rosentha
 ll and '08 Presidential Candidate Cynthia McKinney\n\nFor more inform
 ation visit http://trueskool.com/events/the-political-future-of-medica
 l-marijuana
DTSTART;TZID=America/Los_Angeles:20120927T183000
DTEND;TZID=America/Los_Angeles:20120927T203000
CATEGORIES:oakland, ca
LOCATION:Oaksterdam
WEBSITE:http://www.youtube.com/watch?v=tPfuScG4_2g
URL:http://www.youtube.com/watch?v=tPfuScG4_2g
CONTACT:
ORGANIZER;CN="Block Report Radio":http://trueskool.com/profile/BlockRe
 portRadio
ATTACH;FMTTYPE="image/jpeg":http://storage.ning.com/topology/rest/1.0/
 file/get/2247923388?profile=original
ATTENDEE;ROLE=REQ-PARTICIPANT;PARTSTAT=ACCEPTED;RSVP=TRUE;CN="Block Re
 port Radio":http://trueskool.com/profile/BlockReportRadio
END:VEVENT
END:VCALENDAR
