BEGIN:VCALENDAR
PRODID:NingEventWidget-v1
VERSION:2.0
METHOD:PUBLISH
BEGIN:VTIMEZONE
TZID:America/Los_Angeles
X-LIC-LOCATION:America/Los_Angeles
BEGIN:DAYLIGHT
TZOFFSETFROM:-0800
TZOFFSETTO:-0700
TZNAME:PDT
DTSTART:19700308T020000
RRULE:FREQ=YEARLY;BYMONTH=3;BYDAY=2SU
END:DAYLIGHT
BEGIN:STANDARD
TZOFFSETFROM:-0700
TZOFFSETTO:-0800
TZNAME:PST
DTSTART:19701101T020000
RRULE:FREQ=YEARLY;BYMONTH=11;BYDAY=1SU
END:STANDARD
END:VTIMEZONE
BEGIN:VEVENT
UID:1464587:Event:653026
DTSTAMP:20260420T115735Z
SUMMARY:THE PHARCYDE
DESCRIPTION:ENTER TO WIN A PAIR OF TICKETS. WINNER WILL BE DRAWN RANDO
 MLY AND ANNOUNCED 2 DAYS PRIOR TO EVENT. \nFriday Oct 7, 2016\nTHE PH
 ARCYDE\n\n@ Yoshi's, 510 Embarcadero, Oakland Doors: 7:30 PM . Show: 
 8:00 PM Doors: 9:45 PM . Show: 10:00 PM\n$24 - $34 >> BUY TICKETS\n\n
 \nFor more information visit http://trueskool.com/events/the-pharcyde-
 4
DTSTART;TZID=America/Los_Angeles:20161007T200000
DTEND;TZID=America/Los_Angeles:20161008T000000
CATEGORIES:"san francisco", oakland, berkley, "san jose", "bay area"
LOCATION:Yoshi's, Oakland
WEBSITE:http://www.yoshis.com/search/?q=THE%20PHARCYDE
URL:http://www.yoshis.com/search/?q=THE%20PHARCYDE
CONTACT:
ORGANIZER:Yoshi's
ATTACH;FMTTYPE="image/jpeg":http://storage.ning.com/topology/rest/1.0/
 file/get/2247990459?profile=original
ATTENDEE;ROLE=REQ-PARTICIPANT;PARTSTAT=ACCEPTED;RSVP=TRUE;CN="Editor's
  Pick":http://trueskool.com/profile/RentheVinylArchaeologist
ATTENDEE;ROLE=REQ-PARTICIPANT;PARTSTAT=ACCEPTED;RSVP=TRUE;CN="Akua Mic
 helle":http://trueskool.com/profile/AkuaMichelle
ATTENDEE;ROLE=REQ-PARTICIPANT;PARTSTAT=ACCEPTED;RSVP=TRUE;CN="Frank Vi
 loria":http://trueskool.com/profile/DJILLusive
END:VEVENT
END:VCALENDAR
