BEGIN:VCALENDAR
PRODID:NingEventWidget-v1
VERSION:2.0
METHOD:PUBLISH
BEGIN:VTIMEZONE
TZID:America/Los_Angeles
X-LIC-LOCATION:America/Los_Angeles
BEGIN:DAYLIGHT
TZOFFSETFROM:-0800
TZOFFSETTO:-0700
TZNAME:PDT
DTSTART:19700308T020000
RRULE:FREQ=YEARLY;BYMONTH=3;BYDAY=2SU
END:DAYLIGHT
BEGIN:STANDARD
TZOFFSETFROM:-0700
TZOFFSETTO:-0800
TZNAME:PST
DTSTART:19701101T020000
RRULE:FREQ=YEARLY;BYMONTH=11;BYDAY=1SU
END:STANDARD
END:VTIMEZONE
BEGIN:VEVENT
UID:1464587:Event:619876
DTSTAMP:20260420T214249Z
SUMMARY:The Owe Mega
DESCRIPTION:The Owe Mega\nMusic by Fatees & Brycon\n\nFor more informa
 tion visit http://trueskool.com/events/the-owe-mega
DTSTART;TZID=America/Los_Angeles:20150312T210000
DTEND;TZID=America/Los_Angeles:20150313T020000
CATEGORIES:oakland, bay, area, owekland, yay
LOCATION:Golden Bull, Oakland, CA
WEBSITE:http://thegoldenbullbar.com/
URL:http://thegoldenbullbar.com/
CONTACT:(510) 452-2855
ORGANIZER:Brycon
ATTACH;FMTTYPE="image/jpeg":http://storage.ning.com/topology/rest/1.0/
 file/get/2247974123?profile=original
ATTENDEE;ROLE=REQ-PARTICIPANT;PARTSTAT=ACCEPTED;RSVP=TRUE;CN=Brycon:ht
 tp://trueskool.com/profile/GabrielKahn
END:VEVENT
END:VCALENDAR
