BEGIN:VCALENDAR
PRODID:NingEventWidget-v1
VERSION:2.0
METHOD:PUBLISH
BEGIN:VTIMEZONE
TZID:America/Los_Angeles
X-LIC-LOCATION:America/Los_Angeles
BEGIN:DAYLIGHT
TZOFFSETFROM:-0800
TZOFFSETTO:-0700
TZNAME:PDT
DTSTART:19700308T020000
RRULE:FREQ=YEARLY;BYMONTH=3;BYDAY=2SU
END:DAYLIGHT
BEGIN:STANDARD
TZOFFSETFROM:-0700
TZOFFSETTO:-0800
TZNAME:PST
DTSTART:19701101T020000
RRULE:FREQ=YEARLY;BYMONTH=11;BYDAY=1SU
END:STANDARD
END:VTIMEZONE
BEGIN:VEVENT
UID:1464587:Event:551885
DTSTAMP:20260421T024155Z
SUMMARY:The Original Wailers (Miami)
DESCRIPTION:\n\n\n\n\n\n\nAPR  \n4\nSAT\n\nInlet Beach Bar and Grill
 e Fort Pierce, FL07:00 PM\n\nThe Original Wailers\nSee Tickets\n\n\n
 \n\nFor more information visit http://trueskool.com/events/the-origina
 l-wailers-miami-1
DTSTART;TZID=America/Los_Angeles:20150404T190000
DTEND;TZID=America/Los_Angeles:20150404T230000
CATEGORIES:miami, "fort pierce", florida, fla, mia
LOCATION:Inlet Beach Bar and Grille, Florida
WEBSITE:http://www.ticketmaster.com/Inlet-Beach-Bar-and-Grille-tickets
 -Fort-Pierce/venue/107576
URL:http://www.ticketmaster.com/Inlet-Beach-Bar-and-Grille-tickets-For
 t-Pierce/venue/107576
CONTACT:
ORGANIZER;CN="Editor's Pick":http://trueskool.com/profile/RentheVinylA
 rchaeologist
ATTACH;FMTTYPE="image/jpeg":http://storage.ning.com/topology/rest/1.0/
 file/get/2247973194?profile=original
ATTENDEE;ROLE=REQ-PARTICIPANT;PARTSTAT=ACCEPTED;RSVP=TRUE;CN="Editor's
  Pick":http://trueskool.com/profile/RentheVinylArchaeologist
END:VEVENT
END:VCALENDAR
