BEGIN:VCALENDAR
PRODID:NingEventWidget-v1
VERSION:2.0
METHOD:PUBLISH
BEGIN:VTIMEZONE
TZID:America/Los_Angeles
X-LIC-LOCATION:America/Los_Angeles
BEGIN:DAYLIGHT
TZOFFSETFROM:-0800
TZOFFSETTO:-0700
TZNAME:PDT
DTSTART:19700308T020000
RRULE:FREQ=YEARLY;BYMONTH=3;BYDAY=2SU
END:DAYLIGHT
BEGIN:STANDARD
TZOFFSETFROM:-0700
TZOFFSETTO:-0800
TZNAME:PST
DTSTART:19701101T020000
RRULE:FREQ=YEARLY;BYMONTH=11;BYDAY=1SU
END:STANDARD
END:VTIMEZONE
BEGIN:VEVENT
UID:1464587:Event:625110
DTSTAMP:20260420T201224Z
SUMMARY:THE ORB (WIN TICKETS)
DESCRIPTION: ENTER TO WIN A PAIR OF TICKETS. WINNER WILL BE DRAWN RAND
 OMLY AND ANNOUNCED 2 DAYS PRIOR TO EVENT. 2 PAIRS AVAILABLE \n\n\nTh
 ursday, April 30, 2015\nTHE ORB\nGovinda\n\nDoors: 7:00PM |Show: 8:00
 PM\n\n1300 Van Ness Avenue\nSan Francisco, CA 94109\n(415) 673-5716\nT
 HE REGENCY BALLROOM\n\n\n\n\nFor more information visit http://truesko
 ol.com/events/the-orb
DTSTART;TZID=America/Los_Angeles:20150430T190000
DTEND;TZID=America/Los_Angeles:20150430T230000
CATEGORIES:"san francisco", oakland, berkley, "san jose", "bay area"
LOCATION:The Regency Ballroom
WEBSITE:https://tickets.axs.com/eventShopperV3.html?wr=b4729ffa-e592-4
 e21-bdf5-31ffaa6b7110&preFill=1&lang=en&locale=en_us
URL:https://tickets.axs.com/eventShopperV3.html?wr=b4729ffa-e592-4e21-
 bdf5-31ffaa6b7110&preFill=1&lang=en&locale=en_us
CONTACT:
ORGANIZER;CN="Editor's Pick":http://trueskool.com/profile/RentheVinylA
 rchaeologist
ATTACH;FMTTYPE="image/jpeg":http://storage.ning.com/topology/rest/1.0/
 file/get/2247974800?profile=original
ATTENDEE;ROLE=REQ-PARTICIPANT;PARTSTAT=ACCEPTED;RSVP=TRUE;CN="Editor's
  Pick":http://trueskool.com/profile/RentheVinylArchaeologist
ATTENDEE;ROLE=REQ-PARTICIPANT;PARTSTAT=ACCEPTED;RSVP=TRUE;CN=jesikali:
 http://trueskool.com/profile/jesikali
END:VEVENT
END:VCALENDAR
