BEGIN:VCALENDAR
PRODID:NingEventWidget-v1
VERSION:2.0
METHOD:PUBLISH
BEGIN:VTIMEZONE
TZID:America/Los_Angeles
X-LIC-LOCATION:America/Los_Angeles
BEGIN:DAYLIGHT
TZOFFSETFROM:-0800
TZOFFSETTO:-0700
TZNAME:PDT
DTSTART:19700308T020000
RRULE:FREQ=YEARLY;BYMONTH=3;BYDAY=2SU
END:DAYLIGHT
BEGIN:STANDARD
TZOFFSETFROM:-0700
TZOFFSETTO:-0800
TZNAME:PST
DTSTART:19701101T020000
RRULE:FREQ=YEARLY;BYMONTH=11;BYDAY=1SU
END:STANDARD
END:VTIMEZONE
BEGIN:VEVENT
UID:1464587:Event:625114
DTSTAMP:20260420T183131Z
SUMMARY:THE ORB (Los Angeles)
DESCRIPTION:THE ORB\nwith Govinda\nWednesday, April 29, 2015\nDoors: 8
 :00PM |Show: 9:00PM\n\n5515 Wilshire Blvd.\nLos Angeles, CA 90036\n(3
 23) 936-6400\nEL REY THEATRE\n\n\nFor more information visit http://tr
 ueskool.com/events/the-orb-los-angeles
DTSTART;TZID=America/Los_Angeles:20150429T200000
DTEND;TZID=America/Los_Angeles:20150429T230000
CATEGORIES:"los angeles", la, "santa anna", california, ca
LOCATION:El Rey Theatre
WEBSITE:https://tickets.axs.com/eventShopperV3.html?wr=e58f3c5e-d4f6-4
 7fc-a758-17093d93f5cc&preFill=1&lang=en&locale=en_us
URL:https://tickets.axs.com/eventShopperV3.html?wr=e58f3c5e-d4f6-47fc-
 a758-17093d93f5cc&preFill=1&lang=en&locale=en_us
CONTACT:
ORGANIZER;CN="Editor's Pick":http://trueskool.com/profile/RentheVinylA
 rchaeologist
ATTACH;FMTTYPE="image/jpeg":http://storage.ning.com/topology/rest/1.0/
 file/get/2247974415?profile=original
ATTENDEE;ROLE=REQ-PARTICIPANT;PARTSTAT=ACCEPTED;RSVP=TRUE;CN="Editor's
  Pick":http://trueskool.com/profile/RentheVinylArchaeologist
END:VEVENT
END:VCALENDAR
