BEGIN:VCALENDAR
PRODID:NingEventWidget-v1
VERSION:2.0
METHOD:PUBLISH
BEGIN:VTIMEZONE
TZID:America/Los_Angeles
X-LIC-LOCATION:America/Los_Angeles
BEGIN:DAYLIGHT
TZOFFSETFROM:-0800
TZOFFSETTO:-0700
TZNAME:PDT
DTSTART:19700308T020000
RRULE:FREQ=YEARLY;BYMONTH=3;BYDAY=2SU
END:DAYLIGHT
BEGIN:STANDARD
TZOFFSETFROM:-0700
TZOFFSETTO:-0800
TZNAME:PST
DTSTART:19701101T020000
RRULE:FREQ=YEARLY;BYMONTH=11;BYDAY=1SU
END:STANDARD
END:VTIMEZONE
BEGIN:VEVENT
UID:1464587:Event:134360
DTSTAMP:20260419T110851Z
SUMMARY:The Oakland Slam & Open-Mic featuring Noñameko
DESCRIPTION:\nWow, we have a FANTASTIC show for you on Thursday, Sept 
 27th! In addition to the Slam & WIDE-Open-Mic we have a FABULOUS featu
 re, a feature so super talented you'll want to crowd in close in hope 
 that some of it will rub off on to you! We're thrilled to bring you th
 e soulful song stylings of the Bay Area's own Noñameko.\n\nNoñameko 
 is a Bay Area original. Her passion is weaving the old with the new an
 d she uses her voice as a bridge to join together the very best of jaz
 z and hip-hop with a touch of soul. She is a highly skilled and classi
 cally trained vocalist who knows how to bring out the beauty in every 
 song to which she applies her amazing soprano/ contralto. Noñameko un
 derstands how to maximize the emotional impact of a composition by mai
 ntaining the utmost control over her instrument and resisting the temp
 tation to \"over-sing.\" She croons, belts, warbles and scats with a h
 orn-like improv-ability and can be heard covering any and everything f
 rom Jazz and Blues to Opera and Gospel to Funk and Hip-Hop. A member o
 f a euphonious family Noni has been a student and lover of music since
  before her birth. She considers herself a \"jazz vocalist who pushes 
 her musical diversity to the limit\". Noñameko is a true student of m
 usic citing influences from as diverse sources as the folk music of Gh
 ana, northern Indian classical vocal music and, of course, HIP HOP. Sh
 e has toured Europe, singing everywhere from the Corinthian mountains 
 of Austria to the Vatican; she has toured the United States with such 
 artists as The Headhunters, and Arrested Development and she's thrille
 d to be back home, in Oakland.\n\nWe'll start the show off as usual wi
 th our patented WIDE-Open-Mic in which we welcome artists of all types
  and stripes to the stage to share their talents with our crowd. We've
  had comics, MCs, singers, storytellers, clowns, puppeteers and, of co
 urse, poets. Looking to get on the mic? Just get there a little early 
 and sign-up; you'll also get a discount at the door if you do - so do.
 \n\nThe Oakland Poetry Slam & WIDE-Open-MicFeaturing NoñamekoThursday
  Sept. 27th - 8:00pmThe Oasis Restaurant & Bar135 12th st. (at Madiso
 n)(near Lake Merritt BART)$7 ($5 for performers\n \n\nFor more infor
 mation visit http://trueskool.com/events/the-oakland-slam-open-mic-fea
 turing-no-ameko
DTSTART;TZID=America/Los_Angeles:20120927T200000
DTEND;TZID=America/Los_Angeles:20120927T230000
CATEGORIES:oakland, ca
LOCATION:The Oasis Restaurant & Bar
WEBSITE:https://www.facebook.com/events/326836004079715/
URL:https://www.facebook.com/events/326836004079715/
CONTACT:
ORGANIZER;CN="Oakland Slam":http://trueskool.com/profile/Dahled
ATTACH;FMTTYPE="image/jpeg":http://storage.ning.com/topology/rest/1.0/
 file/get/2247924997?profile=original
ATTENDEE;ROLE=REQ-PARTICIPANT;PARTSTAT=ACCEPTED;RSVP=TRUE;CN="Oakland 
 Slam":http://trueskool.com/profile/Dahled
END:VEVENT
END:VCALENDAR
