BEGIN:VCALENDAR
PRODID:NingEventWidget-v1
VERSION:2.0
METHOD:PUBLISH
BEGIN:VTIMEZONE
TZID:America/Los_Angeles
X-LIC-LOCATION:America/Los_Angeles
BEGIN:DAYLIGHT
TZOFFSETFROM:-0800
TZOFFSETTO:-0700
TZNAME:PDT
DTSTART:19700308T020000
RRULE:FREQ=YEARLY;BYMONTH=3;BYDAY=2SU
END:DAYLIGHT
BEGIN:STANDARD
TZOFFSETFROM:-0700
TZOFFSETTO:-0800
TZNAME:PST
DTSTART:19701101T020000
RRULE:FREQ=YEARLY;BYMONTH=11;BYDAY=1SU
END:STANDARD
END:VTIMEZONE
BEGIN:VEVENT
UID:1464587:Event:371356
DTSTAMP:20260423T054158Z
SUMMARY:The Nug Presents the710 Show
DESCRIPTION:TheNug proudly presents the 710 Show! Celebrate concentrat
 es and enjoy a night of some of the best hip-hop the Bay Area has to o
 ffer, brought to you by top Bay Area dispensaries The Green Door and
  Blum Oakland with additional support from LA's 112 Glass and Ine
 ffable Music.\nWe’ve enlisted Bay Area legends Pep Love of Hierog
 lyphics and Souls of Mischief's A-Plus to light up the stage. As i
 f that’s not enough, enjoy a DJ set from AmpLive of Zion I, and a
  performance from Locksmith of the duo Frontline. Support provided b
 y G-roy, DJ Hellagood and Celsius 7. Come drink and dance until your n
 ight ends in a haze!\nThe show will take place on July 10th (7-10), do
 ors open at 7:10PM in Oakland, CA at The Uptown. Presale tickets are 
 available now for $15, come party with fellow dabbers! Until June 15,
  buy three tickets and get the fourth free! USE CODE: FOUR4THREE\n\n\n
 \n\n- See more at: http://www.thenug.com/galleries/thenug-presents-the
 -710-show#sthash.ouUcBT8c.dpuf\n\nFor more information visit http://tr
 ueskool.com/events/the-nug-presents-the710-show
DTSTART;TZID=America/Los_Angeles:20140710T190000
DTEND;TZID=America/Los_Angeles:20140711T014500
CATEGORIES:bay, area
LOCATION:The Uptown, Oakland
WEBSITE:https://www.tixr.com/groups/thenug/events/the-nug-presents-the
 -710-show-192
URL:https://www.tixr.com/groups/thenug/events/the-nug-presents-the-710
 -show-192
CONTACT:
ORGANIZER:The Nug
ATTACH;FMTTYPE="image/jpeg":http://storage.ning.com/topology/rest/1.0/
 file/get/2247963502?profile=original
ATTENDEE;ROLE=REQ-PARTICIPANT;PARTSTAT=ACCEPTED;RSVP=TRUE;CN="Brian Kn
 obles":http://trueskool.com/profile/BrianKnobles
END:VEVENT
END:VCALENDAR
