BEGIN:VCALENDAR
PRODID:NingEventWidget-v1
VERSION:2.0
METHOD:PUBLISH
BEGIN:VTIMEZONE
TZID:America/Los_Angeles
X-LIC-LOCATION:America/Los_Angeles
BEGIN:DAYLIGHT
TZOFFSETFROM:-0800
TZOFFSETTO:-0700
TZNAME:PDT
DTSTART:19700308T020000
RRULE:FREQ=YEARLY;BYMONTH=3;BYDAY=2SU
END:DAYLIGHT
BEGIN:STANDARD
TZOFFSETFROM:-0700
TZOFFSETTO:-0800
TZNAME:PST
DTSTART:19701101T020000
RRULE:FREQ=YEARLY;BYMONTH=11;BYDAY=1SU
END:STANDARD
END:VTIMEZONE
BEGIN:VEVENT
UID:1464587:Event:377135
DTSTAMP:20260421T015619Z
SUMMARY:The Nug Presents the 710 Show
DESCRIPTION:\nThe Nug Presents\nTHE 710 SHOW\nTICKETS: tixr.com/thenu
 g\n \nTheNug proudly presents the 710 Show! Celebrate concentrates an
 d enjoy a night of some of the best hip-hop the Bay Area has to offer,
  brought to you by top Bay Area dispensaries The Green Door and Blum O
 akland with additional support from LA's 112 Glass and Ineffable Music
 .\nWe’ve enlisted Bay Area legends Pep Love of Hieroglyphics and Sou
 ls of Mischief's A-Plus to light up the stage. As if that’s not enou
 gh, enjoy a DJ set from AmpLive of Zion I, and a performance from Lock
 smith of the duo Frontline. Support provided by G-roy, DJ Hellagood an
 d Celsius 7. Come drink and dance until your night ends in a haze!\nTh
 e show will take place on July 10th (7-10), doors open at 7:10PM in Oa
 kland, CA at The Uptown. Presale tickets are available now for $15, co
 me party with fellow dabbers! Until June 30, buy three tickets and get
  the fourth free! USE CODE: FOUR4THREE\n\nFor more information visit h
 ttp://trueskool.com/events/the-nug-presents-the-710-show
DTSTART;TZID=America/Los_Angeles:20140710T190000
DTEND;TZID=America/Los_Angeles:20140711T010000
CATEGORIES:oakland, bay, area
LOCATION:The Uptown, Oakland, CA
WEBSITE:http://tixr.com/thenug
URL:http://tixr.com/thenug
CONTACT:6198406195
ORGANIZER;CN="The Nug":http://trueskool.com/profile/JasonGuillory
ATTACH;FMTTYPE="image/jpeg":http://storage.ning.com/topology/rest/1.0/
 file/get/2247963613?profile=original
ATTENDEE;ROLE=REQ-PARTICIPANT;PARTSTAT=ACCEPTED;RSVP=TRUE;CN="The Nug"
 :http://trueskool.com/profile/JasonGuillory
END:VEVENT
END:VCALENDAR
