BEGIN:VCALENDAR
PRODID:NingEventWidget-v1
VERSION:2.0
METHOD:PUBLISH
BEGIN:VTIMEZONE
TZID:America/Los_Angeles
X-LIC-LOCATION:America/Los_Angeles
BEGIN:DAYLIGHT
TZOFFSETFROM:-0800
TZOFFSETTO:-0700
TZNAME:PDT
DTSTART:19700308T020000
RRULE:FREQ=YEARLY;BYMONTH=3;BYDAY=2SU
END:DAYLIGHT
BEGIN:STANDARD
TZOFFSETFROM:-0700
TZOFFSETTO:-0800
TZNAME:PST
DTSTART:19701101T020000
RRULE:FREQ=YEARLY;BYMONTH=11;BYDAY=1SU
END:STANDARD
END:VTIMEZONE
BEGIN:VEVENT
UID:1464587:Event:628833
DTSTAMP:20260421T070817Z
SUMMARY:The New Wage Wednesdays Live Rehearsals@ The Milk Bar
DESCRIPTION:\nTHE NEW WAGE\nis the most recently formed “Ultra Group
 ” consisting of some of the most talented and creative musicians/son
 gwriters/performers that the bay has to offer and maybe the world.\nWi
 th multi-talened Bay Area Native Andre Marshall on Bass and back-up Vo
 cals, and Bay Area Native Jay Lane (Primus/Alphabet Soup/Further/Charl
 ie Hunter Trio) on Drums, Former Members of Michael Franti and Spearhe
 ad, Bob Crawford on Keys, Dave Shul on Guitar and Winner of two 2014 N
 orth Bay Bohemian Music Awards for Best Hip Hop/Electronic, and Best F
 olk/Acoustic Artist… Beatbox Master Positive Rapper MC RADIO ACTIVE 
 on Lead Vocals\nEvery Wednesday  830pm @ The Milk Bar in San Francisc
 o California The guys do a Live Rehearsal. In the early stages of form
 ing a strong path to crowd rockin, they hold an endless amount of musi
 cal knowledge among the five of them, with a back catalog that will go
  hard, not to mention a great bag of tricks up there sleeves to comman
 d the dancefloor as well as the eardrums!!\nFor Booking\nplease contac
 t\n1wagemusic@gmail.com\n\n\n \n \n\nFor more information visit http
 ://trueskool.com/events/the-new-wage-wednesdays-live-rehearsals-the-mi
 lk-bar
DTSTART;TZID=America/Los_Angeles:20150513T180000
DTEND;TZID=America/Los_Angeles:20150513T190000
CATEGORIES:"upper haight", "san francisco"
LOCATION:The Milk Bar, San Francisco, CA
WEBSITE:http://$5
URL:http://$5
CONTACT:
ORGANIZER;CN="MC Radio Active":http://trueskool.com/profile/WoodRoweFa
 rguhesonJr
ATTACH;FMTTYPE="image/jpeg":http://storage.ning.com/topology/rest/1.0/
 file/get/2247976957?profile=original
ATTENDEE;ROLE=REQ-PARTICIPANT;PARTSTAT=ACCEPTED;RSVP=TRUE;CN="MC Radio
  Active":http://trueskool.com/profile/WoodRoweFarguhesonJr
END:VEVENT
END:VCALENDAR
