BEGIN:VCALENDAR
PRODID:NingEventWidget-v1
VERSION:2.0
METHOD:PUBLISH
BEGIN:VTIMEZONE
TZID:America/Los_Angeles
X-LIC-LOCATION:America/Los_Angeles
BEGIN:DAYLIGHT
TZOFFSETFROM:-0800
TZOFFSETTO:-0700
TZNAME:PDT
DTSTART:19700308T020000
RRULE:FREQ=YEARLY;BYMONTH=3;BYDAY=2SU
END:DAYLIGHT
BEGIN:STANDARD
TZOFFSETFROM:-0700
TZOFFSETTO:-0800
TZNAME:PST
DTSTART:19701101T020000
RRULE:FREQ=YEARLY;BYMONTH=11;BYDAY=1SU
END:STANDARD
END:VTIMEZONE
BEGIN:VEVENT
UID:1464587:Event:647727
DTSTAMP:20260420T231745Z
SUMMARY:The Movement
DESCRIPTION:\nFri. April 29\nThe Movement\nIya Terra\nWheeland Brother
 s\n\n@ Slim's, San Francisco\ndoors 8pm/show 9pm\nTickets are $15 adva
 nce/door\nFor more info & tickets: http://www.slimspresents.com/event/
 the-movement-slims-w-iya-terra-wheeland-brothers/\n\nThe Movement has 
 garnered critical acclaim and earned a dedicated fanbase for their inf
 ectious reggae throughout a decade-long career. The trio’s last two 
 studio albums have debuted in the top two spots of the Billboard regga
 e chart. After a gift of gratitude to its fans in the form of a free a
 coustic album (Beneath The Palms), The Movement has returned with the 
 gorgeously reflective album, Golden, released April 8 as the first rel
 ease on the not-for-profit “artist first” record label Rootfire Co
 operative.\n\nFor more information visit http://trueskool.com/events/t
 he-movement
DTSTART;TZID=America/Los_Angeles:20160421T180000
DTEND;TZID=America/Los_Angeles:20160421T190000
CATEGORIES:"bay area", "san francisco"
LOCATION:Slim's, San Francisco
WEBSITE:http://www.slimspresents.com/event/the-movement-slims-w-iya-te
 rra-wheeland-brothers/
URL:http://www.slimspresents.com/event/the-movement-slims-w-iya-terra-
 wheeland-brothers/
CONTACT:
ORGANIZER:Slim's
ATTACH;FMTTYPE="image/jpeg":http://storage.ning.com/topology/rest/1.0/
 file/get/2247989572?profile=original
ATTENDEE;ROLE=REQ-PARTICIPANT;PARTSTAT=ACCEPTED;RSVP=TRUE;CN="Editor's
  Pick":http://trueskool.com/profile/RentheVinylArchaeologist
END:VEVENT
END:VCALENDAR
