BEGIN:VCALENDAR
PRODID:NingEventWidget-v1
VERSION:2.0
METHOD:PUBLISH
BEGIN:VTIMEZONE
TZID:America/Los_Angeles
X-LIC-LOCATION:America/Los_Angeles
BEGIN:DAYLIGHT
TZOFFSETFROM:-0800
TZOFFSETTO:-0700
TZNAME:PDT
DTSTART:19700308T020000
RRULE:FREQ=YEARLY;BYMONTH=3;BYDAY=2SU
END:DAYLIGHT
BEGIN:STANDARD
TZOFFSETFROM:-0700
TZOFFSETTO:-0800
TZNAME:PST
DTSTART:19701101T020000
RRULE:FREQ=YEARLY;BYMONTH=11;BYDAY=1SU
END:STANDARD
END:VTIMEZONE
BEGIN:VEVENT
UID:1464587:Event:651427
DTSTAMP:20260421T020948Z
SUMMARY:THE MAX: 90s Dance Party
DESCRIPTION:MEZZANINE PresentsTHE MAX90â€™s Dance Party!FREE with RSVP
  on Eventbrite // $10 withoutft. 90's drag performances by SPICE QUEER
 S(Miss J, Persia, Yves Saint Croissant, Siobhan Aluvulot, Cyanide)Â DJ
 â€™s Jamie Jams (Debaser), DJ Omar (Leisure/Popscene), Siobhan Aluvulo
 t, CyanideHosted byÂ Saturn Rising90â€™s inspired fashions highly enco
 uraged!9PM // 21+ with Valid IDÂ Entry based on venue capacity.---On J
 ULY 22nd weâ€™re gettinâ€™ jiggy with it and throwing the ultimate 90â
 €™s throwback dance party, because, wellâ€¦ WE LIKE TO PARTY until SME
 LLS LIKE TEEN SPIRIT. Weâ€™re going to be bumping all of the supreme o
 ld-school jams, and you better BELIEVE will be groovinâ€™ all night lo
 ng. But thatâ€™s not allâ€¦ because IF YA WANNA BE OUR LOVER YA GOTTA 
 GET WITH OUR FRIENDS. Get ready to bust out your finest Union Jack app
 arel, your snazziest Adidas tracksuit or your LITTLE GUCCI DRESS, beca
 use the SPICE QUEERS ARE COMING. DJ Siobhan Aluvulot, DJ Cyanide, Miss
  J, Persia & Yves Saint Croissant will be saying WHO DO YOU THINK YOU 
 ARE with an iconic 90's DRAG PERFORMANCE. Theyâ€™ll be slamming it to 
 the left, and shaking it to the right, so come on over and SPICE UP YO
 UR LIFE at MEZZ FRIDAY JULY 22nd!\n\nFor more information visit http:/
 /trueskool.com/events/the-max-90s-dance-party
DTSTART;TZID=America/Los_Angeles:20160722T210000
DTEND;TZID=America/Los_Angeles:20160723T020000
CATEGORIES:san, francisco, bay, area
LOCATION:MEZZANINE, San Francisco, CA
WEBSITE:http://themax90sjam.eventbrite.com/?aff=trueskool
URL:http://themax90sjam.eventbrite.com/?aff=trueskool
CONTACT:14156258880
ORGANIZER;CN="Mezzanine SF":http://trueskool.com/profile/MezzanineSF13
 5
ATTACH;FMTTYPE="image/jpeg":http://storage.ning.com/topology/rest/1.0/
 file/get/2247989535?profile=original
ATTENDEE;ROLE=REQ-PARTICIPANT;PARTSTAT=ACCEPTED;RSVP=TRUE;CN="Mezzanin
 e SF":http://trueskool.com/profile/MezzanineSF135
END:VEVENT
END:VCALENDAR
