BEGIN:VCALENDAR
PRODID:NingEventWidget-v1
VERSION:2.0
METHOD:PUBLISH
BEGIN:VTIMEZONE
TZID:America/Los_Angeles
X-LIC-LOCATION:America/Los_Angeles
BEGIN:DAYLIGHT
TZOFFSETFROM:-0800
TZOFFSETTO:-0700
TZNAME:PDT
DTSTART:19700308T020000
RRULE:FREQ=YEARLY;BYMONTH=3;BYDAY=2SU
END:DAYLIGHT
BEGIN:STANDARD
TZOFFSETFROM:-0700
TZOFFSETTO:-0800
TZNAME:PST
DTSTART:19701101T020000
RRULE:FREQ=YEARLY;BYMONTH=11;BYDAY=1SU
END:STANDARD
END:VTIMEZONE
BEGIN:VEVENT
UID:1464587:Event:662579
DTSTAMP:20260421T073903Z
SUMMARY:THE MAX: 90's HIP HOP & RnB PARTY
DESCRIPTION:THE MAX 90's Hip Hop & RnB Party\nThe Max is back! And we 
 couldn't be more excited for our monthly homage to all things 90's Hip
  Hop & R&B. Grab your jellies, Tommy Hilfiger tee and bucket hat, beca
 use we're taking it back to The Max!\nwith:\nDJ Fuze (Digital Undergro
 und)\nDiggin in da Crates â€“ Billy Vidal & Naki the Beatman\nDJ's Oma
 r & Marco B2B AV Insanity - 90's videos & More\nHosted byÂ Saturn Risi
 ng\nPhotobooth by Photomatica\nPlaying all the hits from:A Tribe Calle
 d Quest Â· Aaliyah Â· Alicia Keys Â· Atlantic Starr Â· Babyface Â· Bea
 stie Boys Â· Big L Â· Blackstreet Â· Bone Thugs-N-Harmony Â· Boyz II M
 en Â· Brandy Â· Brian McKnight Â· Busta Rhymes Â· Color Me Badd Â· Com
 mon Â· D'Angelo Â· De La Soul Destiny's Child Â· DMX Â· Dr. Dre Â· Dru
  Hill Â· Eminem Â· En Vogue Â· EPMD Â· ErKYah BaDU Â· Eve Â· Faith Eva
 ns Â· Gang Starr Â· Gunuwine Ice Cube Â· J Lo Â· Janet Jackson Â· Jay 
 Z Â· Jodeci Â· Joe Â· K-Ci & JoJo Â· Keith Sweat Â· KRS-One Â· Layryn 
 Hill Â· LL Cool J Â· Mariah Carey Mary j. Blige Â· Michael Jackson Â· 
 Mint Condition Â· Missy Elliot Â· Monica Â· Montell Jordan Â· Mya Â· N
 .W.A. Â· Nas Â· New Eddition Outkast Â· Prince Â· R. Kelly Â· Rakim Â·
  Salt-N-Pepa Â· Snoop Dogg Â· SWV Â· Tevin Campbell Â· The Notorious B
 .I.G. Â· The Pharcyde TLC zToni Braxton Â· Too Short Â· Tupac Shakur Â
 · Will Smith Â· Wu-Tang Â· Clan Â· Xscape & SO MUCH MORE\n\nFree all n
 ight with RSVP, $10 at the Door.\nMEZZANINE, 444 JESSIE ST, SF // 21+ 
 // 9PM\n\nFor more information visit http://trueskool.com/events/the-m
 ax-90-s-hip-hop-rnb-party
DTSTART;TZID=America/Los_Angeles:20170527T210000
DTEND;TZID=America/Los_Angeles:20170528T020000
CATEGORIES:"san francisco", "bay area"
LOCATION:MEZZANINE, San Francisco, CA
WEBSITE:https://themax90spartyatmezzanine.eventbrite.com/?aff=trueskoo
 l
URL:https://themax90spartyatmezzanine.eventbrite.com/?aff=trueskool
CONTACT:415.625.8880
ORGANIZER;CN=MezzanineSF:http://trueskool.com/profile/MezzanineSF
ATTACH;FMTTYPE="image/jpeg":http://storage.ning.com/topology/rest/1.0/
 file/get/2247997323?profile=original
ATTENDEE;ROLE=REQ-PARTICIPANT;PARTSTAT=ACCEPTED;RSVP=TRUE;CN=Mezzanine
 SF:http://trueskool.com/profile/MezzanineSF
END:VEVENT
END:VCALENDAR
