BEGIN:VCALENDAR
PRODID:NingEventWidget-v1
VERSION:2.0
METHOD:PUBLISH
BEGIN:VTIMEZONE
TZID:America/Los_Angeles
X-LIC-LOCATION:America/Los_Angeles
BEGIN:DAYLIGHT
TZOFFSETFROM:-0800
TZOFFSETTO:-0700
TZNAME:PDT
DTSTART:19700308T020000
RRULE:FREQ=YEARLY;BYMONTH=3;BYDAY=2SU
END:DAYLIGHT
BEGIN:STANDARD
TZOFFSETFROM:-0700
TZOFFSETTO:-0800
TZNAME:PST
DTSTART:19701101T020000
RRULE:FREQ=YEARLY;BYMONTH=11;BYDAY=1SU
END:STANDARD
END:VTIMEZONE
BEGIN:VEVENT
UID:1464587:Event:314950
DTSTAMP:20260421T035307Z
SUMMARY:The LOX (Jadakiss, Styles P & Sheek Louch)
DESCRIPTION: Friday, April 4, 2014\n\"The Trinity Tour\"\nThe LOX Jada
 kiss, Styles P & Sheek Louch (D-Block)\nVIP + Meet & Greet Tickets wit
 h signed \"Trinity\" CD available!\nw/ The C.M.E. on the decks\n1015 F
 olsom 1015 Folsom St, San Francisco\n>> BUY TICKETS\n\nFor more inform
 ation visit http://trueskool.com/events/the-lox-jadakiss-styles-p-shee
 k-louch
DTSTART;TZID=America/Los_Angeles:20140404T210000
DTEND;TZID=America/Los_Angeles:20140405T020000
CATEGORIES:"bay area", "san francisco"
LOCATION:1015, San Francisco
WEBSITE:http://www.ticketfly.com/event/498825-lox-jadakiss-styles-p-sa
 n-francisco/
URL:http://www.ticketfly.com/event/498825-lox-jadakiss-styles-p-san-fr
 ancisco/
CONTACT:
ORGANIZER:Tastemaker Live & Sean Healy
ATTACH;FMTTYPE="image/jpeg":http://storage.ning.com/topology/rest/1.0/
 file/get/2247958214?profile=original
ATTENDEE;ROLE=REQ-PARTICIPANT;PARTSTAT=ACCEPTED;RSVP=TRUE;CN="Staff Pi
 ck":http://trueskool.com/profile/Ren
END:VEVENT
END:VCALENDAR
