BEGIN:VCALENDAR
PRODID:NingEventWidget-v1
VERSION:2.0
METHOD:PUBLISH
BEGIN:VTIMEZONE
TZID:America/Los_Angeles
X-LIC-LOCATION:America/Los_Angeles
BEGIN:DAYLIGHT
TZOFFSETFROM:-0800
TZOFFSETTO:-0700
TZNAME:PDT
DTSTART:19700308T020000
RRULE:FREQ=YEARLY;BYMONTH=3;BYDAY=2SU
END:DAYLIGHT
BEGIN:STANDARD
TZOFFSETFROM:-0700
TZOFFSETTO:-0800
TZNAME:PST
DTSTART:19701101T020000
RRULE:FREQ=YEARLY;BYMONTH=11;BYDAY=1SU
END:STANDARD
END:VTIMEZONE
BEGIN:VEVENT
UID:1464587:Event:653118
DTSTAMP:20260421T132435Z
SUMMARY:THE GREYBOY ALLSTARS
DESCRIPTION:\nTwo Nights!THE GREYBOY ALLSTARS FEATURING THE BROWNOUT H
 ORNSThe IndependentSan Francisco, CAFriday, November 04, 2016Saturday,
  November 05, 2016Show: 9:00pm\n\nFor more information visit http://tr
 ueskool.com/events/the-greyboy-allstars
DTSTART;TZID=America/Los_Angeles:20161104T210000
DTEND;TZID=America/Los_Angeles:20161105T230000
CATEGORIES:"san francisco", oakland, berkley, "san jose", "bay area"
LOCATION:The Independent, San Francisco
WEBSITE:https://www.ticketfly.com/purchase/event/1299207?camefrom=CFC_
 ANOTHERPLANET_web&brand=anotherplanet
URL:https://www.ticketfly.com/purchase/event/1299207?camefrom=CFC_ANOT
 HERPLANET_web&brand=anotherplanet
CONTACT:
ORGANIZER;CN="Editor's Pick":http://trueskool.com/profile/RentheVinylA
 rchaeologist
ATTACH;FMTTYPE="image/jpeg":http://storage.ning.com/topology/rest/1.0/
 file/get/2247990666?profile=original
ATTENDEE;ROLE=REQ-PARTICIPANT;PARTSTAT=ACCEPTED;RSVP=TRUE;CN="Editor's
  Pick":http://trueskool.com/profile/RentheVinylArchaeologist
END:VEVENT
END:VCALENDAR
